BEGIN:VCALENDAR
VERSION:2.0
PRODID:-//Le théâtre de la Chute - ECPv6.15.20//NONSGML v1.0//EN
CALSCALE:GREGORIAN
METHOD:PUBLISH
X-WR-CALNAME:Le théâtre de la Chute
X-ORIGINAL-URL:https://letheatredelachute.be
X-WR-CALDESC:évènements pour Le théâtre de la Chute
REFRESH-INTERVAL;VALUE=DURATION:PT1H
X-Robots-Tag:noindex
X-PUBLISHED-TTL:PT1H
BEGIN:VTIMEZONE
TZID:Europe/Brussels
BEGIN:DAYLIGHT
TZOFFSETFROM:+0100
TZOFFSETTO:+0200
TZNAME:CEST
DTSTART:20240331T010000
END:DAYLIGHT
BEGIN:STANDARD
TZOFFSETFROM:+0200
TZOFFSETTO:+0100
TZNAME:CET
DTSTART:20241027T010000
END:STANDARD
BEGIN:DAYLIGHT
TZOFFSETFROM:+0100
TZOFFSETTO:+0200
TZNAME:CEST
DTSTART:20250330T010000
END:DAYLIGHT
BEGIN:STANDARD
TZOFFSETFROM:+0200
TZOFFSETTO:+0100
TZNAME:CET
DTSTART:20251026T010000
END:STANDARD
BEGIN:DAYLIGHT
TZOFFSETFROM:+0100
TZOFFSETTO:+0200
TZNAME:CEST
DTSTART:20260329T010000
END:DAYLIGHT
BEGIN:STANDARD
TZOFFSETFROM:+0200
TZOFFSETTO:+0100
TZNAME:CET
DTSTART:20261025T010000
END:STANDARD
END:VTIMEZONE
BEGIN:VEVENT
DTSTART;TZID=Europe/Brussels:20250201T150000
DTEND;TZID=Europe/Brussels:20250201T163000
DTSTAMP:20260419T214040
CREATED:20230612T101954Z
LAST-MODIFIED:20241029T153035Z
UID:2141-1738422000-1738427400@letheatredelachute.be
SUMMARY:La Très Tragique Histoire d'Oedipe
DESCRIPTION:Premier volet du Fatal Diptyque \nCe premier épisode est un condensé de Oedipe Roi et de Oedipe à Colone\, de Sophocle. \nCREATION 2023 \nInfo: letheatredelachute@gmail.com
URL:https://letheatredelachute.be/spectacle/la-tres-tragique-histoire-doedipe-21/
LOCATION:La Roseraie\, Ch. d'Alsemberg 1299\, Uccle\, 1180\, Belgium
CATEGORIES:La très tragique histoire d’Oedipe,Tous les spectacles
ATTACH;FMTTYPE=image/jpeg:https://letheatredelachute.be/wp-content/uploads/2023/06/Double-visuel-pour-diptyque.jpg
END:VEVENT
BEGIN:VEVENT
DTSTART;TZID=Europe/Brussels:20250204T100000
DTEND;TZID=Europe/Brussels:20250204T113000
DTSTAMP:20260419T214040
CREATED:20230612T101954Z
LAST-MODIFIED:20241125T124319Z
UID:2144-1738663200-1738668600@letheatredelachute.be
SUMMARY:Antigone vs Créon
DESCRIPTION:Deuxième volet du Fatal Diptyque \nCe deuxième épisode est une création originale de Benoît Verhaert inspirée des Antigones à travers le temps. \nCREATION 2024 \nInfo: letheatredelachute@gmail.com
URL:https://letheatredelachute.be/spectacle/antigone-vs-creon-18/
LOCATION:Maison culturelle d’Ath\, Rue de Brantignies 4\, Ath\, 7800
CATEGORIES:Antigone vs Créon,scolaire,Tous les spectacles
ATTACH;FMTTYPE=image/jpeg:https://letheatredelachute.be/wp-content/uploads/2024/09/Antigone-vs-Creon.jpeg
END:VEVENT
BEGIN:VEVENT
DTSTART;TZID=Europe/Brussels:20250204T133000
DTEND;TZID=Europe/Brussels:20250204T150000
DTSTAMP:20260419T214040
CREATED:20230612T101954Z
LAST-MODIFIED:20241125T124407Z
UID:2146-1738675800-1738681200@letheatredelachute.be
SUMMARY:Antigone vs Créon
DESCRIPTION:Deuxième volet du Fatal Diptyque \nCe deuxième épisode est une création originale de Benoît Verhaert inspirée des Antigones à travers le temps. \nCREATION 2024 \nInfo: letheatredelachute@gmail.com
URL:https://letheatredelachute.be/spectacle/antigone-vs-creon-19/
LOCATION:Maison culturelle d’Ath\, Rue de Brantignies 4\, Ath\, 7800
CATEGORIES:Antigone vs Créon,scolaire,Tous les spectacles
ATTACH;FMTTYPE=image/jpeg:https://letheatredelachute.be/wp-content/uploads/2024/09/Antigone-vs-Creon.jpeg
END:VEVENT
BEGIN:VEVENT
DTSTART;TZID=Europe/Brussels:20250205T100000
DTEND;TZID=Europe/Brussels:20250205T113000
DTSTAMP:20260419T214040
CREATED:20230612T101954Z
LAST-MODIFIED:20241125T124518Z
UID:2148-1738749600-1738755000@letheatredelachute.be
SUMMARY:Antigone vs Créon
DESCRIPTION:Deuxième volet du Fatal Diptyque \nCe deuxième épisode est une création originale de Benoît Verhaert inspirée des Antigones à travers le temps. \nCREATION 2024 \nInfo: letheatredelachute@gmail.com
URL:https://letheatredelachute.be/spectacle/antigone-vs-creon-20/
LOCATION:Maison culturelle d’Ath\, Rue de Brantignies 4\, Ath\, 7800
CATEGORIES:Antigone vs Créon,scolaire,Tous les spectacles
ATTACH;FMTTYPE=image/jpeg:https://letheatredelachute.be/wp-content/uploads/2024/09/Antigone-vs-Creon.jpeg
END:VEVENT
BEGIN:VEVENT
DTSTART;TZID=Europe/Brussels:20250205T200000
DTEND;TZID=Europe/Brussels:20250205T213000
DTSTAMP:20260419T214040
CREATED:20230612T101954Z
LAST-MODIFIED:20241125T124605Z
UID:2150-1738785600-1738791000@letheatredelachute.be
SUMMARY:Antigone vs Créon
DESCRIPTION:Deuxième volet du Fatal Diptyque \nCe deuxième épisode est une création originale de Benoît Verhaert inspirée des Antigones à travers le temps. \nCREATION 2024 \nInfo: letheatredelachute@gmail.com
URL:https://letheatredelachute.be/spectacle/antigone-vs-creon-21/
LOCATION:Maison culturelle d’Ath\, Rue de Brantignies 4\, Ath\, 7800
CATEGORIES:Antigone vs Créon,Tous les spectacles
ATTACH;FMTTYPE=image/jpeg:https://letheatredelachute.be/wp-content/uploads/2024/09/Antigone-vs-Creon.jpeg
END:VEVENT
BEGIN:VEVENT
DTSTART;TZID=Europe/Brussels:20250206T100000
DTEND;TZID=Europe/Brussels:20250206T113000
DTSTAMP:20260419T214040
CREATED:20230612T101954Z
LAST-MODIFIED:20241125T124712Z
UID:2152-1738836000-1738841400@letheatredelachute.be
SUMMARY:Antigone vs Créon
DESCRIPTION:Deuxième volet du Fatal Diptyque \nCe deuxième épisode est une création originale de Benoît Verhaert inspirée des Antigones à travers le temps. \nCREATION 2024 \nInfo: letheatredelachute@gmail.com
URL:https://letheatredelachute.be/spectacle/antigone-vs-creon-22/
LOCATION:Maison culturelle d’Ath\, Rue de Brantignies 4\, Ath\, 7800
CATEGORIES:Antigone vs Créon,scolaire,Tous les spectacles
ATTACH;FMTTYPE=image/jpeg:https://letheatredelachute.be/wp-content/uploads/2024/09/Antigone-vs-Creon.jpeg
END:VEVENT
BEGIN:VEVENT
DTSTART;TZID=Europe/Brussels:20250206T133000
DTEND;TZID=Europe/Brussels:20250206T150000
DTSTAMP:20260419T214040
CREATED:20230612T101954Z
LAST-MODIFIED:20241125T124754Z
UID:2154-1738848600-1738854000@letheatredelachute.be
SUMMARY:Antigone vs Créon
DESCRIPTION:Deuxième volet du Fatal Diptyque \nCe deuxième épisode est une création originale de Benoît Verhaert inspirée des Antigones à travers le temps. \nCREATION 2024 \nInfo: letheatredelachute@gmail.com
URL:https://letheatredelachute.be/spectacle/antigone-vs-creon-23/
LOCATION:Maison culturelle d’Ath\, Rue de Brantignies 4\, Ath\, 7800
CATEGORIES:Antigone vs Créon,scolaire,Tous les spectacles
ATTACH;FMTTYPE=image/jpeg:https://letheatredelachute.be/wp-content/uploads/2024/09/Antigone-vs-Creon.jpeg
END:VEVENT
BEGIN:VEVENT
DTSTART;TZID=Europe/Brussels:20250214T201500
DTEND;TZID=Europe/Brussels:20250214T220000
DTSTAMP:20260419T214040
CREATED:20200727T141449Z
LAST-MODIFIED:20250130T104828Z
UID:2173-1739564100-1739570400@letheatredelachute.be
SUMMARY:Pensées secrètes
DESCRIPTION:Une comédie romantique adaptée du roman de David Lodge\nCREATION 2024\n\n\nLe spectacle est une adaptation théâtrale du très drôle et très intelligent roman de David Lodge\, qui met en scène la rencontre entre un homme et une femme fondamentalement différents. L’un est scientifique\, l’autre littéraire.\nPour remettre en question le conditionnement du genre qui a longtemps déterminé nos rôles dans notre société et parce que le hasard a peut-être plus d’importance qu’on ne le croit dans ce qui nous façonne et nous conditionne\, nous tirerons au sort au début de chaque représentation\, lequel du personnage masculin ou féminin sera scientifique ou littéraire\, et nous verrons alors si l’habit fait le moine…\n\nAvec: Florence Hebbelynck et Benoît Verhaert\nUne création du Théâtre de la Chute en coproduction avec Le Vilar et DC&J Création. Avec le soutien du Tax Shelter du Gouvernement fédéral belge et d’Inver Tax Shelter. Avec l’aide de la Fédération Wallonie-Bruxelles.
URL:https://letheatredelachute.be/spectacle/pensees-secretes-17/
LOCATION:Comédie royale Claude Volter\, Av. des Frères Legrain 98\,\, Woluwe-Saint-Pierre\, 1150\, Belgium
CATEGORIES:Pensées Secrètes,Tous les spectacles
ATTACH;FMTTYPE=image/jpeg:https://letheatredelachute.be/wp-content/uploads/2023/06/ls-project-16-slide-1.jpg
END:VEVENT
BEGIN:VEVENT
DTSTART;TZID=Europe/Brussels:20250215T201500
DTEND;TZID=Europe/Brussels:20250215T220000
DTSTAMP:20260419T214040
CREATED:20200727T141449Z
LAST-MODIFIED:20250130T104920Z
UID:2176-1739650500-1739656800@letheatredelachute.be
SUMMARY:Pensées secrètes
DESCRIPTION:Une comédie romantique adaptée du roman de David Lodge\nCREATION 2024\n\n\nLe spectacle est une adaptation théâtrale du très drôle et très intelligent roman de David Lodge\, qui met en scène la rencontre entre un homme et une femme fondamentalement différents. L’un est scientifique\, l’autre littéraire.\nPour remettre en question le conditionnement du genre qui a longtemps déterminé nos rôles dans notre société et parce que le hasard a peut-être plus d’importance qu’on ne le croit dans ce qui nous façonne et nous conditionne\, nous tirerons au sort au début de chaque représentation\, lequel du personnage masculin ou féminin sera scientifique ou littéraire\, et nous verrons alors si l’habit fait le moine…\n\nAvec: Florence Hebbelynck et Benoît Verhaert\nUne création du Théâtre de la Chute en coproduction avec Le Vilar et DC&J Création. Avec le soutien du Tax Shelter du Gouvernement fédéral belge et d’Inver Tax Shelter. Avec l’aide de la Fédération Wallonie-Bruxelles.
URL:https://letheatredelachute.be/spectacle/pensees-secretes-18/
LOCATION:Comédie royale Claude Volter\, Av. des Frères Legrain 98\,\, Woluwe-Saint-Pierre\, 1150\, Belgium
CATEGORIES:Pensées Secrètes,Tous les spectacles
ATTACH;FMTTYPE=image/jpeg:https://letheatredelachute.be/wp-content/uploads/2023/06/ls-project-16-slide-1.jpg
END:VEVENT
BEGIN:VEVENT
DTSTART;TZID=Europe/Brussels:20250216T160000
DTEND;TZID=Europe/Brussels:20250216T180000
DTSTAMP:20260419T214040
CREATED:20200727T141449Z
LAST-MODIFIED:20250130T105028Z
UID:2178-1739721600-1739728800@letheatredelachute.be
SUMMARY:Pensées secrètes
DESCRIPTION:Une comédie romantique adaptée du roman de David Lodge\nCREATION 2024\n\n\nLe spectacle est une adaptation théâtrale du très drôle et très intelligent roman de David Lodge\, qui met en scène la rencontre entre un homme et une femme fondamentalement différents. L’un est scientifique\, l’autre littéraire.\nPour remettre en question le conditionnement du genre qui a longtemps déterminé nos rôles dans notre société et parce que le hasard a peut-être plus d’importance qu’on ne le croit dans ce qui nous façonne et nous conditionne\, nous tirerons au sort au début de chaque représentation\, lequel du personnage masculin ou féminin sera scientifique ou littéraire\, et nous verrons alors si l’habit fait le moine…\n\nAvec: Florence Hebbelynck et Benoît Verhaert\nUne création du Théâtre de la Chute en coproduction avec Le Vilar et DC&J Création. Avec le soutien du Tax Shelter du Gouvernement fédéral belge et d’Inver Tax Shelter. Avec l’aide de la Fédération Wallonie-Bruxelles.
URL:https://letheatredelachute.be/spectacle/pensees-secretes-19/
LOCATION:Comédie royale Claude Volter\, Av. des Frères Legrain 98\,\, Woluwe-Saint-Pierre\, 1150\, Belgium
CATEGORIES:Pensées Secrètes,Tous les spectacles
ATTACH;FMTTYPE=image/jpeg:https://letheatredelachute.be/wp-content/uploads/2023/06/ls-project-16-slide-1.jpg
END:VEVENT
BEGIN:VEVENT
DTSTART;TZID=Europe/Brussels:20250218T201500
DTEND;TZID=Europe/Brussels:20250218T220000
DTSTAMP:20260419T214040
CREATED:20200727T141449Z
LAST-MODIFIED:20250130T105246Z
UID:2182-1739909700-1739916000@letheatredelachute.be
SUMMARY:Pensées secrètes
DESCRIPTION:Une comédie romantique adaptée du roman de David Lodge\nCREATION 2024\n\n\nLe spectacle est une adaptation théâtrale du très drôle et très intelligent roman de David Lodge\, qui met en scène la rencontre entre un homme et une femme fondamentalement différents. L’un est scientifique\, l’autre littéraire.\nPour remettre en question le conditionnement du genre qui a longtemps déterminé nos rôles dans notre société et parce que le hasard a peut-être plus d’importance qu’on ne le croit dans ce qui nous façonne et nous conditionne\, nous tirerons au sort au début de chaque représentation\, lequel du personnage masculin ou féminin sera scientifique ou littéraire\, et nous verrons alors si l’habit fait le moine…\n\nAvec: Florence Hebbelynck et Benoît Verhaert\nUne création du Théâtre de la Chute en coproduction avec Le Vilar et DC&J Création. Avec le soutien du Tax Shelter du Gouvernement fédéral belge et d’Inver Tax Shelter. Avec l’aide de la Fédération Wallonie-Bruxelles.
URL:https://letheatredelachute.be/spectacle/pensees-secretes-21/
LOCATION:Comédie royale Claude Volter\, Av. des Frères Legrain 98\,\, Woluwe-Saint-Pierre\, 1150\, Belgium
CATEGORIES:Pensées Secrètes,Tous les spectacles
ATTACH;FMTTYPE=image/jpeg:https://letheatredelachute.be/wp-content/uploads/2023/06/ls-project-16-slide-1.jpg
END:VEVENT
BEGIN:VEVENT
DTSTART;TZID=Europe/Brussels:20250219T201500
DTEND;TZID=Europe/Brussels:20250219T220000
DTSTAMP:20260419T214040
CREATED:20200727T141449Z
LAST-MODIFIED:20250130T105344Z
UID:2184-1739996100-1740002400@letheatredelachute.be
SUMMARY:Pensées secrètes
DESCRIPTION:Une comédie romantique adaptée du roman de David Lodge\nCREATION 2024\n\n\nLe spectacle est une adaptation théâtrale du très drôle et très intelligent roman de David Lodge\, qui met en scène la rencontre entre un homme et une femme fondamentalement différents. L’un est scientifique\, l’autre littéraire.\nPour remettre en question le conditionnement du genre qui a longtemps déterminé nos rôles dans notre société et parce que le hasard a peut-être plus d’importance qu’on ne le croit dans ce qui nous façonne et nous conditionne\, nous tirerons au sort au début de chaque représentation\, lequel du personnage masculin ou féminin sera scientifique ou littéraire\, et nous verrons alors si l’habit fait le moine…\n\nAvec: Florence Hebbelynck et Benoît Verhaert\nUne création du Théâtre de la Chute en coproduction avec Le Vilar et DC&J Création. Avec le soutien du Tax Shelter du Gouvernement fédéral belge et d’Inver Tax Shelter. Avec l’aide de la Fédération Wallonie-Bruxelles.
URL:https://letheatredelachute.be/spectacle/pensees-secretes-22/
LOCATION:Comédie royale Claude Volter\, Av. des Frères Legrain 98\,\, Woluwe-Saint-Pierre\, 1150\, Belgium
CATEGORIES:Pensées Secrètes,Tous les spectacles
ATTACH;FMTTYPE=image/jpeg:https://letheatredelachute.be/wp-content/uploads/2023/06/ls-project-16-slide-1.jpg
END:VEVENT
BEGIN:VEVENT
DTSTART;TZID=Europe/Brussels:20250220T201500
DTEND;TZID=Europe/Brussels:20250220T220000
DTSTAMP:20260419T214040
CREATED:20200727T141449Z
LAST-MODIFIED:20250130T105536Z
UID:2186-1740082500-1740088800@letheatredelachute.be
SUMMARY:Pensées secrètes
DESCRIPTION:Une comédie romantique adaptée du roman de David Lodge\nCREATION 2024\n\n\nLe spectacle est une adaptation théâtrale du très drôle et très intelligent roman de David Lodge\, qui met en scène la rencontre entre un homme et une femme fondamentalement différents. L’un est scientifique\, l’autre littéraire.\nPour remettre en question le conditionnement du genre qui a longtemps déterminé nos rôles dans notre société et parce que le hasard a peut-être plus d’importance qu’on ne le croit dans ce qui nous façonne et nous conditionne\, nous tirerons au sort au début de chaque représentation\, lequel du personnage masculin ou féminin sera scientifique ou littéraire\, et nous verrons alors si l’habit fait le moine…\n\nAvec: Florence Hebbelynck et Benoît Verhaert\nUne création du Théâtre de la Chute en coproduction avec Le Vilar et DC&J Création. Avec le soutien du Tax Shelter du Gouvernement fédéral belge et d’Inver Tax Shelter. Avec l’aide de la Fédération Wallonie-Bruxelles.
URL:https://letheatredelachute.be/spectacle/pensees-secretes-23/
LOCATION:Comédie royale Claude Volter\, Av. des Frères Legrain 98\,\, Woluwe-Saint-Pierre\, 1150\, Belgium
CATEGORIES:Pensées Secrètes,Tous les spectacles
ATTACH;FMTTYPE=image/jpeg:https://letheatredelachute.be/wp-content/uploads/2023/06/ls-project-16-slide-1.jpg
END:VEVENT
BEGIN:VEVENT
DTSTART;TZID=Europe/Brussels:20250221T201500
DTEND;TZID=Europe/Brussels:20250221T220000
DTSTAMP:20260419T214040
CREATED:20200727T141449Z
LAST-MODIFIED:20250130T105639Z
UID:2188-1740168900-1740175200@letheatredelachute.be
SUMMARY:Pensées secrètes
DESCRIPTION:Une comédie romantique adaptée du roman de David Lodge\nCREATION 2024\n\n\nLe spectacle est une adaptation théâtrale du très drôle et très intelligent roman de David Lodge\, qui met en scène la rencontre entre un homme et une femme fondamentalement différents. L’un est scientifique\, l’autre littéraire.\nPour remettre en question le conditionnement du genre qui a longtemps déterminé nos rôles dans notre société et parce que le hasard a peut-être plus d’importance qu’on ne le croit dans ce qui nous façonne et nous conditionne\, nous tirerons au sort au début de chaque représentation\, lequel du personnage masculin ou féminin sera scientifique ou littéraire\, et nous verrons alors si l’habit fait le moine…\n\nAvec: Florence Hebbelynck et Benoît Verhaert\nUne création du Théâtre de la Chute en coproduction avec Le Vilar et DC&J Création. Avec le soutien du Tax Shelter du Gouvernement fédéral belge et d’Inver Tax Shelter. Avec l’aide de la Fédération Wallonie-Bruxelles.
URL:https://letheatredelachute.be/spectacle/pensees-secretes-24/
LOCATION:Comédie royale Claude Volter\, Av. des Frères Legrain 98\,\, Woluwe-Saint-Pierre\, 1150\, Belgium
CATEGORIES:Pensées Secrètes,Tous les spectacles
ATTACH;FMTTYPE=image/jpeg:https://letheatredelachute.be/wp-content/uploads/2023/06/ls-project-16-slide-1.jpg
END:VEVENT
BEGIN:VEVENT
DTSTART;TZID=Europe/Brussels:20250222T201500
DTEND;TZID=Europe/Brussels:20250222T220000
DTSTAMP:20260419T214040
CREATED:20200727T141449Z
LAST-MODIFIED:20250130T105742Z
UID:2190-1740255300-1740261600@letheatredelachute.be
SUMMARY:Pensées secrètes
DESCRIPTION:Une comédie romantique adaptée du roman de David Lodge\nCREATION 2024\n\n\nLe spectacle est une adaptation théâtrale du très drôle et très intelligent roman de David Lodge\, qui met en scène la rencontre entre un homme et une femme fondamentalement différents. L’un est scientifique\, l’autre littéraire.\nPour remettre en question le conditionnement du genre qui a longtemps déterminé nos rôles dans notre société et parce que le hasard a peut-être plus d’importance qu’on ne le croit dans ce qui nous façonne et nous conditionne\, nous tirerons au sort au début de chaque représentation\, lequel du personnage masculin ou féminin sera scientifique ou littéraire\, et nous verrons alors si l’habit fait le moine…\n\nAvec: Florence Hebbelynck et Benoît Verhaert\nUne création du Théâtre de la Chute en coproduction avec Le Vilar et DC&J Création. Avec le soutien du Tax Shelter du Gouvernement fédéral belge et d’Inver Tax Shelter. Avec l’aide de la Fédération Wallonie-Bruxelles.
URL:https://letheatredelachute.be/spectacle/pensees-secretes-25/
LOCATION:Comédie royale Claude Volter\, Av. des Frères Legrain 98\,\, Woluwe-Saint-Pierre\, 1150\, Belgium
CATEGORIES:Pensées Secrètes,Tous les spectacles
ATTACH;FMTTYPE=image/jpeg:https://letheatredelachute.be/wp-content/uploads/2023/06/ls-project-16-slide-1.jpg
END:VEVENT
BEGIN:VEVENT
DTSTART;TZID=Europe/Brussels:20250223T160000
DTEND;TZID=Europe/Brussels:20250223T180000
DTSTAMP:20260419T214040
CREATED:20200727T141449Z
LAST-MODIFIED:20250130T105144Z
UID:2180-1740326400-1740333600@letheatredelachute.be
SUMMARY:Pensées secrètes
DESCRIPTION:Une comédie romantique adaptée du roman de David Lodge\nCREATION 2024\n\n\nLe spectacle est une adaptation théâtrale du très drôle et très intelligent roman de David Lodge\, qui met en scène la rencontre entre un homme et une femme fondamentalement différents. L’un est scientifique\, l’autre littéraire.\nPour remettre en question le conditionnement du genre qui a longtemps déterminé nos rôles dans notre société et parce que le hasard a peut-être plus d’importance qu’on ne le croit dans ce qui nous façonne et nous conditionne\, nous tirerons au sort au début de chaque représentation\, lequel du personnage masculin ou féminin sera scientifique ou littéraire\, et nous verrons alors si l’habit fait le moine…\n\nAvec: Florence Hebbelynck et Benoît Verhaert\nUne création du Théâtre de la Chute en coproduction avec Le Vilar et DC&J Création. Avec le soutien du Tax Shelter du Gouvernement fédéral belge et d’Inver Tax Shelter. Avec l’aide de la Fédération Wallonie-Bruxelles.
URL:https://letheatredelachute.be/spectacle/pensees-secretes-20/
LOCATION:Comédie royale Claude Volter\, Av. des Frères Legrain 98\,\, Woluwe-Saint-Pierre\, 1150\, Belgium
CATEGORIES:Pensées Secrètes,Tous les spectacles
ATTACH;FMTTYPE=image/jpeg:https://letheatredelachute.be/wp-content/uploads/2023/06/ls-project-16-slide-1.jpg
END:VEVENT
END:VCALENDAR