BEGIN:VCALENDAR
VERSION:2.0
PRODID:-//Le théâtre de la Chute - ECPv6.15.20//NONSGML v1.0//EN
CALSCALE:GREGORIAN
METHOD:PUBLISH
X-ORIGINAL-URL:https://letheatredelachute.be
X-WR-CALDESC:évènements pour Le théâtre de la Chute
REFRESH-INTERVAL;VALUE=DURATION:PT1H
X-Robots-Tag:noindex
X-PUBLISHED-TTL:PT1H
BEGIN:VTIMEZONE
TZID:Europe/Brussels
BEGIN:DAYLIGHT
TZOFFSETFROM:+0100
TZOFFSETTO:+0200
TZNAME:CEST
DTSTART:20230326T010000
END:DAYLIGHT
BEGIN:STANDARD
TZOFFSETFROM:+0200
TZOFFSETTO:+0100
TZNAME:CET
DTSTART:20231029T010000
END:STANDARD
BEGIN:DAYLIGHT
TZOFFSETFROM:+0100
TZOFFSETTO:+0200
TZNAME:CEST
DTSTART:20240331T010000
END:DAYLIGHT
BEGIN:STANDARD
TZOFFSETFROM:+0200
TZOFFSETTO:+0100
TZNAME:CET
DTSTART:20241027T010000
END:STANDARD
BEGIN:DAYLIGHT
TZOFFSETFROM:+0100
TZOFFSETTO:+0200
TZNAME:CEST
DTSTART:20250330T010000
END:DAYLIGHT
BEGIN:STANDARD
TZOFFSETFROM:+0200
TZOFFSETTO:+0100
TZNAME:CET
DTSTART:20251026T010000
END:STANDARD
END:VTIMEZONE
BEGIN:VEVENT
DTSTART;TZID=Europe/Brussels:20241107T133000
DTEND;TZID=Europe/Brussels:20241107T153000
DTSTAMP:20260420T023020
CREATED:20230612T101954Z
LAST-MODIFIED:20240927T110805Z
UID:2080-1730986200-1730993400@letheatredelachute.be
SUMMARY:Antigone vs Créon
DESCRIPTION:Deuxième volet du Fatal Diptyque \nCe deuxième épisode est une création originale de Benoît Verhaert inspirée des Antigones à travers le temps. \nCREATION 2024 \nInfo: letheatredelachute@gmail.com
URL:https://letheatredelachute.be/spectacle/antigone-vs-creon/
LOCATION:Ferme de Martinrou\, Chée de Charleroi 615\,\, Fleurus\, 6220\, Belgique
CATEGORIES:Antigone vs Créon,scolaire,Tous les spectacles
ATTACH;FMTTYPE=image/jpeg:https://letheatredelachute.be/wp-content/uploads/2024/09/Antigone-vs-Creon.jpeg
END:VEVENT
BEGIN:VEVENT
DTSTART;TZID=Europe/Brussels:20241107T203000
DTEND;TZID=Europe/Brussels:20241107T223000
DTSTAMP:20260420T023020
CREATED:20230612T101954Z
LAST-MODIFIED:20240927T110733Z
UID:2082-1731011400-1731018600@letheatredelachute.be
SUMMARY:Antigone vs Créon
DESCRIPTION:Deuxième volet du Fatal Diptyque \nCe deuxième épisode est une création originale de Benoît Verhaert inspirée des Antigones à travers le temps. \nCREATION 2024 \nInfo: letheatredelachute@gmail.com
URL:https://letheatredelachute.be/spectacle/antigone-vs-creon-2/
LOCATION:Ferme de Martinrou\, Chée de Charleroi 615\,\, Fleurus\, 6220\, Belgique
CATEGORIES:Antigone vs Créon,Tous les spectacles
ATTACH;FMTTYPE=image/jpeg:https://letheatredelachute.be/wp-content/uploads/2024/09/Antigone-vs-Creon.jpeg
END:VEVENT
BEGIN:VEVENT
DTSTART;TZID=Europe/Brussels:20241108T100000
DTEND;TZID=Europe/Brussels:20241108T120000
DTSTAMP:20260420T023020
CREATED:20230612T101954Z
LAST-MODIFIED:20240927T110659Z
UID:2092-1731060000-1731067200@letheatredelachute.be
SUMMARY:Antigone vs Créon
DESCRIPTION:Deuxième volet du Fatal Diptyque \nCe deuxième épisode est une création originale de Benoît Verhaert inspirée des Antigones à travers le temps. \nCREATION 2024 \nInfo: letheatredelachute@gmail.com
URL:https://letheatredelachute.be/spectacle/antigone-vs-creon-7/
LOCATION:Ferme de Martinrou\, Chée de Charleroi 615\,\, Fleurus\, 6220\, Belgique
CATEGORIES:Antigone vs Créon,scolaire,Tous les spectacles
ATTACH;FMTTYPE=image/jpeg:https://letheatredelachute.be/wp-content/uploads/2024/09/Antigone-vs-Creon.jpeg
END:VEVENT
BEGIN:VEVENT
DTSTART;TZID=Europe/Brussels:20241108T133000
DTEND;TZID=Europe/Brussels:20241108T153000
DTSTAMP:20260420T023020
CREATED:20230612T101954Z
LAST-MODIFIED:20240927T110627Z
UID:2084-1731072600-1731079800@letheatredelachute.be
SUMMARY:Antigone vs Créon
DESCRIPTION:Deuxième volet du Fatal Diptyque \nCe deuxième épisode est une création originale de Benoît Verhaert inspirée des Antigones à travers le temps. \nCREATION 2024 \nInfo: letheatredelachute@gmail.com
URL:https://letheatredelachute.be/spectacle/antigone-vs-creon-3/
LOCATION:Ferme de Martinrou\, Chée de Charleroi 615\,\, Fleurus\, 6220\, Belgique
CATEGORIES:Antigone vs Créon,scolaire,Tous les spectacles
ATTACH;FMTTYPE=image/jpeg:https://letheatredelachute.be/wp-content/uploads/2024/09/Antigone-vs-Creon.jpeg
END:VEVENT
BEGIN:VEVENT
DTSTART;TZID=Europe/Brussels:20241112T100000
DTEND;TZID=Europe/Brussels:20241112T120000
DTSTAMP:20260420T023020
CREATED:20230612T101954Z
LAST-MODIFIED:20240927T110559Z
UID:2090-1731405600-1731412800@letheatredelachute.be
SUMMARY:Antigone vs Créon
DESCRIPTION:Deuxième volet du Fatal Diptyque \nCe deuxième épisode est une création originale de Benoît Verhaert inspirée des Antigones à travers le temps. \nCREATION 2024 \nInfo: letheatredelachute@gmail.com
URL:https://letheatredelachute.be/spectacle/antigone-vs-creon-6/
LOCATION:Ferme de Martinrou\, Chée de Charleroi 615\,\, Fleurus\, 6220\, Belgique
CATEGORIES:Antigone vs Créon,scolaire,Tous les spectacles
ATTACH;FMTTYPE=image/jpeg:https://letheatredelachute.be/wp-content/uploads/2024/09/Antigone-vs-Creon.jpeg
END:VEVENT
BEGIN:VEVENT
DTSTART;TZID=Europe/Brussels:20241112T133000
DTEND;TZID=Europe/Brussels:20241112T153000
DTSTAMP:20260420T023020
CREATED:20230612T101954Z
LAST-MODIFIED:20240927T110530Z
UID:2086-1731418200-1731425400@letheatredelachute.be
SUMMARY:Antigone vs Créon
DESCRIPTION:Deuxième volet du Fatal Diptyque \nCe deuxième épisode est une création originale de Benoît Verhaert inspirée des Antigones à travers le temps. \nCREATION 2024 \nInfo: letheatredelachute@gmail.com
URL:https://letheatredelachute.be/spectacle/antigone-vs-creon-4/
LOCATION:Ferme de Martinrou\, Chée de Charleroi 615\,\, Fleurus\, 6220\, Belgique
CATEGORIES:Antigone vs Créon,scolaire,Tous les spectacles
ATTACH;FMTTYPE=image/jpeg:https://letheatredelachute.be/wp-content/uploads/2024/09/Antigone-vs-Creon.jpeg
END:VEVENT
BEGIN:VEVENT
DTSTART;TZID=Europe/Brussels:20241113T100000
DTEND;TZID=Europe/Brussels:20241113T120000
DTSTAMP:20260420T023020
CREATED:20230612T101954Z
LAST-MODIFIED:20240927T110501Z
UID:2088-1731492000-1731499200@letheatredelachute.be
SUMMARY:Antigone vs Créon
DESCRIPTION:Deuxième volet du Fatal Diptyque \nCe deuxième épisode est une création originale de Benoît Verhaert inspirée des Antigones à travers le temps. \nCREATION 2024 \nInfo: letheatredelachute@gmail.com
URL:https://letheatredelachute.be/spectacle/antigone-vs-creon-5/
LOCATION:Ferme de Martinrou\, Chée de Charleroi 615\,\, Fleurus\, 6220\, Belgique
CATEGORIES:Antigone vs Créon,scolaire,Tous les spectacles
ATTACH;FMTTYPE=image/jpeg:https://letheatredelachute.be/wp-content/uploads/2024/09/Antigone-vs-Creon.jpeg
END:VEVENT
BEGIN:VEVENT
DTSTART;TZID=Europe/Brussels:20241114T133000
DTEND;TZID=Europe/Brussels:20241114T153000
DTSTAMP:20260420T023020
CREATED:20230612T101954Z
LAST-MODIFIED:20240927T110424Z
UID:2094-1731591000-1731598200@letheatredelachute.be
SUMMARY:Antigone vs Créon
DESCRIPTION:Deuxième volet du Fatal Diptyque \nCe deuxième épisode est une création originale de Benoît Verhaert inspirée des Antigones à travers le temps. \nCREATION 2024 \nInfo: letheatredelachute@gmail.com
URL:https://letheatredelachute.be/spectacle/antigone-vs-creon-8/
LOCATION:Centre culturel de Soignies\, Pl. van Zeeland 31\, Soignies\, 7060\, Belgium
CATEGORIES:Antigone vs Créon,scolaire,Tous les spectacles
ATTACH;FMTTYPE=image/jpeg:https://letheatredelachute.be/wp-content/uploads/2024/09/Antigone-vs-Creon.jpeg
END:VEVENT
BEGIN:VEVENT
DTSTART;TZID=Europe/Brussels:20241114T200000
DTEND;TZID=Europe/Brussels:20241114T220000
DTSTAMP:20260420T023020
CREATED:20230612T101954Z
LAST-MODIFIED:20240927T110351Z
UID:2096-1731614400-1731621600@letheatredelachute.be
SUMMARY:Antigone vs Créon
DESCRIPTION:Deuxième volet du Fatal Diptyque \nCe deuxième épisode est une création originale de Benoît Verhaert inspirée des Antigones à travers le temps. \nCREATION 2024 \nInfo: letheatredelachute@gmail.com
URL:https://letheatredelachute.be/spectacle/antigone-vs-creon-9/
LOCATION:Centre culturel de Soignies\, Pl. van Zeeland 31\, Soignies\, 7060\, Belgium
CATEGORIES:Antigone vs Créon,Tous les spectacles
ATTACH;FMTTYPE=image/jpeg:https://letheatredelachute.be/wp-content/uploads/2024/09/Antigone-vs-Creon.jpeg
END:VEVENT
END:VCALENDAR