BEGIN:VCALENDAR
VERSION:2.0
PRODID:-//Le théâtre de la Chute - ECPv6.15.20//NONSGML v1.0//EN
CALSCALE:GREGORIAN
METHOD:PUBLISH
X-ORIGINAL-URL:https://letheatredelachute.be
X-WR-CALDESC:évènements pour Le théâtre de la Chute
REFRESH-INTERVAL;VALUE=DURATION:PT1H
X-Robots-Tag:noindex
X-PUBLISHED-TTL:PT1H
BEGIN:VTIMEZONE
TZID:Europe/Brussels
BEGIN:DAYLIGHT
TZOFFSETFROM:+0100
TZOFFSETTO:+0200
TZNAME:CEST
DTSTART:20230326T010000
END:DAYLIGHT
BEGIN:STANDARD
TZOFFSETFROM:+0200
TZOFFSETTO:+0100
TZNAME:CET
DTSTART:20231029T010000
END:STANDARD
BEGIN:DAYLIGHT
TZOFFSETFROM:+0100
TZOFFSETTO:+0200
TZNAME:CEST
DTSTART:20240331T010000
END:DAYLIGHT
BEGIN:STANDARD
TZOFFSETFROM:+0200
TZOFFSETTO:+0100
TZNAME:CET
DTSTART:20241027T010000
END:STANDARD
BEGIN:DAYLIGHT
TZOFFSETFROM:+0100
TZOFFSETTO:+0200
TZNAME:CEST
DTSTART:20250330T010000
END:DAYLIGHT
BEGIN:STANDARD
TZOFFSETFROM:+0200
TZOFFSETTO:+0100
TZNAME:CET
DTSTART:20251026T010000
END:STANDARD
END:VTIMEZONE
BEGIN:VEVENT
DTSTART;TZID=Europe/Brussels:20240423T133000
DTEND;TZID=Europe/Brussels:20240423T150000
DTSTAMP:20260420T142502
CREATED:20200529T105512Z
LAST-MODIFIED:20240325T091301Z
UID:2030-1713879000-1713884400@letheatredelachute.be
SUMMARY:L'ETRANGER
DESCRIPTION:Aujourd’hui maman est morte. Ou peut-être hier\, je ne sais pas.  \nJ’ai reçu un télégramme de l’asile :  \n« Mère décédée. Enterrement demain. Sentiments distingués. »  \nCela ne veut rien dire. C’était peut-être hier. \n\n\n\n\n\nL’histoire commence par l’annonce froide à Meursault du décès de sa mère. Pendant l’enterrement\, par une chaleur caniculaire\, on constate que ce deuil semble ne lui faire ni chaud ni froid. Ensuite\, nous assistons\, dans une banlieue de l’Algérie française des années 40\, au petit quotidien banal de ce jeune pied-noir\, personnage étrange à force d’avoir l’air indifférent à tout.  \nC’est en commettant un meurtre qu’il prend conscience qu’il avait peut-être été jusque-là étranger à lui-même\, à sa propre vie\, et que l’acte qu’il vient de poser aura des conséquences.  \nJ’ai compris que j’avais détruit l’équilibre du jour. \nLa deuxième partie du livre raconte le procès de Meursault. Celui-ci répondra toujours la vérité\, la sienne\, aux juges qui l’interrogeront\, sans jamais chercher à arranger la réalité pour tenter de sauver sa peau. A la question : Pourquoi avez-vous tué ? Il répond : Parce qu’il y avait du soleil. Meursault sera condamné à mort. \n« L’Etranger »\, selon Camus lui-même\, c’est l’histoire d’un homme condamné à mort pour n’avoir pas pleuré à l’enterrement de sa mère.
URL:https://letheatredelachute.be/spectacle/letranger-7/
LOCATION:Ferme de Martinrou\, Chée de Charleroi 615\,\, Fleurus\, 6220\, Belgique
CATEGORIES:l'étranger,scolaire,Tous les spectacles
ATTACH;FMTTYPE=image/jpeg:https://letheatredelachute.be/wp-content/uploads/2020/05/8714195126_178f33f882_o-scaled.jpg
END:VEVENT
BEGIN:VEVENT
DTSTART;TZID=Europe/Brussels:20240423T203000
DTEND;TZID=Europe/Brussels:20240423T220000
DTSTAMP:20260420T142502
CREATED:20200529T105512Z
LAST-MODIFIED:20240325T091150Z
UID:2027-1713904200-1713909600@letheatredelachute.be
SUMMARY:L'ETRANGER
DESCRIPTION:Aujourd’hui maman est morte. Ou peut-être hier\, je ne sais pas.  \nJ’ai reçu un télégramme de l’asile :  \n« Mère décédée. Enterrement demain. Sentiments distingués. »  \nCela ne veut rien dire. C’était peut-être hier. \n\n\n\n\n\nL’histoire commence par l’annonce froide à Meursault du décès de sa mère. Pendant l’enterrement\, par une chaleur caniculaire\, on constate que ce deuil semble ne lui faire ni chaud ni froid. Ensuite\, nous assistons\, dans une banlieue de l’Algérie française des années 40\, au petit quotidien banal de ce jeune pied-noir\, personnage étrange à force d’avoir l’air indifférent à tout.  \nC’est en commettant un meurtre qu’il prend conscience qu’il avait peut-être été jusque-là étranger à lui-même\, à sa propre vie\, et que l’acte qu’il vient de poser aura des conséquences.  \nJ’ai compris que j’avais détruit l’équilibre du jour. \nLa deuxième partie du livre raconte le procès de Meursault. Celui-ci répondra toujours la vérité\, la sienne\, aux juges qui l’interrogeront\, sans jamais chercher à arranger la réalité pour tenter de sauver sa peau. A la question : Pourquoi avez-vous tué ? Il répond : Parce qu’il y avait du soleil. Meursault sera condamné à mort. \n« L’Etranger »\, selon Camus lui-même\, c’est l’histoire d’un homme condamné à mort pour n’avoir pas pleuré à l’enterrement de sa mère.
URL:https://letheatredelachute.be/spectacle/letranger-6/
LOCATION:Ferme de Martinrou\, Chée de Charleroi 615\,\, Fleurus\, 6220\, Belgique
CATEGORIES:l'étranger,Tous les spectacles
ATTACH;FMTTYPE=image/jpeg:https://letheatredelachute.be/wp-content/uploads/2020/05/8714195126_178f33f882_o-scaled.jpg
END:VEVENT
BEGIN:VEVENT
DTSTART;TZID=Europe/Brussels:20240424T100000
DTEND;TZID=Europe/Brussels:20240424T113000
DTSTAMP:20260420T142502
CREATED:20200529T105512Z
LAST-MODIFIED:20240325T091358Z
UID:2032-1713952800-1713958200@letheatredelachute.be
SUMMARY:L'ETRANGER
DESCRIPTION:Aujourd’hui maman est morte. Ou peut-être hier\, je ne sais pas.  \nJ’ai reçu un télégramme de l’asile :  \n« Mère décédée. Enterrement demain. Sentiments distingués. »  \nCela ne veut rien dire. C’était peut-être hier. \n\n\n\n\n\nL’histoire commence par l’annonce froide à Meursault du décès de sa mère. Pendant l’enterrement\, par une chaleur caniculaire\, on constate que ce deuil semble ne lui faire ni chaud ni froid. Ensuite\, nous assistons\, dans une banlieue de l’Algérie française des années 40\, au petit quotidien banal de ce jeune pied-noir\, personnage étrange à force d’avoir l’air indifférent à tout.  \nC’est en commettant un meurtre qu’il prend conscience qu’il avait peut-être été jusque-là étranger à lui-même\, à sa propre vie\, et que l’acte qu’il vient de poser aura des conséquences.  \nJ’ai compris que j’avais détruit l’équilibre du jour. \nLa deuxième partie du livre raconte le procès de Meursault. Celui-ci répondra toujours la vérité\, la sienne\, aux juges qui l’interrogeront\, sans jamais chercher à arranger la réalité pour tenter de sauver sa peau. A la question : Pourquoi avez-vous tué ? Il répond : Parce qu’il y avait du soleil. Meursault sera condamné à mort. \n« L’Etranger »\, selon Camus lui-même\, c’est l’histoire d’un homme condamné à mort pour n’avoir pas pleuré à l’enterrement de sa mère.
URL:https://letheatredelachute.be/spectacle/letranger-8/
LOCATION:Ferme de Martinrou\, Chée de Charleroi 615\,\, Fleurus\, 6220\, Belgique
CATEGORIES:l'étranger,scolaire,Tous les spectacles
ATTACH;FMTTYPE=image/jpeg:https://letheatredelachute.be/wp-content/uploads/2020/05/8714195126_178f33f882_o-scaled.jpg
END:VEVENT
BEGIN:VEVENT
DTSTART;TZID=Europe/Brussels:20240425T133000
DTEND;TZID=Europe/Brussels:20240425T150000
DTSTAMP:20260420T142502
CREATED:20200529T105512Z
LAST-MODIFIED:20240325T091437Z
UID:2034-1714051800-1714057200@letheatredelachute.be
SUMMARY:L'ETRANGER
DESCRIPTION:Aujourd’hui maman est morte. Ou peut-être hier\, je ne sais pas.  \nJ’ai reçu un télégramme de l’asile :  \n« Mère décédée. Enterrement demain. Sentiments distingués. »  \nCela ne veut rien dire. C’était peut-être hier. \n\n\n\n\n\nL’histoire commence par l’annonce froide à Meursault du décès de sa mère. Pendant l’enterrement\, par une chaleur caniculaire\, on constate que ce deuil semble ne lui faire ni chaud ni froid. Ensuite\, nous assistons\, dans une banlieue de l’Algérie française des années 40\, au petit quotidien banal de ce jeune pied-noir\, personnage étrange à force d’avoir l’air indifférent à tout.  \nC’est en commettant un meurtre qu’il prend conscience qu’il avait peut-être été jusque-là étranger à lui-même\, à sa propre vie\, et que l’acte qu’il vient de poser aura des conséquences.  \nJ’ai compris que j’avais détruit l’équilibre du jour. \nLa deuxième partie du livre raconte le procès de Meursault. Celui-ci répondra toujours la vérité\, la sienne\, aux juges qui l’interrogeront\, sans jamais chercher à arranger la réalité pour tenter de sauver sa peau. A la question : Pourquoi avez-vous tué ? Il répond : Parce qu’il y avait du soleil. Meursault sera condamné à mort. \n« L’Etranger »\, selon Camus lui-même\, c’est l’histoire d’un homme condamné à mort pour n’avoir pas pleuré à l’enterrement de sa mère.
URL:https://letheatredelachute.be/spectacle/letranger-9/
LOCATION:Ferme de Martinrou\, Chée de Charleroi 615\,\, Fleurus\, 6220\, Belgique
CATEGORIES:l'étranger,scolaire,Tous les spectacles
ATTACH;FMTTYPE=image/jpeg:https://letheatredelachute.be/wp-content/uploads/2020/05/8714195126_178f33f882_o-scaled.jpg
END:VEVENT
END:VCALENDAR