BEGIN:VCALENDAR
VERSION:2.0
PRODID:-//Le théâtre de la Chute - ECPv6.15.20//NONSGML v1.0//EN
CALSCALE:GREGORIAN
METHOD:PUBLISH
X-WR-CALNAME:Le théâtre de la Chute
X-ORIGINAL-URL:https://letheatredelachute.be
X-WR-CALDESC:évènements pour Le théâtre de la Chute
REFRESH-INTERVAL;VALUE=DURATION:PT1H
X-Robots-Tag:noindex
X-PUBLISHED-TTL:PT1H
BEGIN:VTIMEZONE
TZID:Europe/Brussels
BEGIN:DAYLIGHT
TZOFFSETFROM:+0100
TZOFFSETTO:+0200
TZNAME:CEST
DTSTART:20220327T010000
END:DAYLIGHT
BEGIN:STANDARD
TZOFFSETFROM:+0200
TZOFFSETTO:+0100
TZNAME:CET
DTSTART:20221030T010000
END:STANDARD
BEGIN:DAYLIGHT
TZOFFSETFROM:+0100
TZOFFSETTO:+0200
TZNAME:CEST
DTSTART:20230326T010000
END:DAYLIGHT
BEGIN:STANDARD
TZOFFSETFROM:+0200
TZOFFSETTO:+0100
TZNAME:CET
DTSTART:20231029T010000
END:STANDARD
BEGIN:DAYLIGHT
TZOFFSETFROM:+0100
TZOFFSETTO:+0200
TZNAME:CEST
DTSTART:20240331T010000
END:DAYLIGHT
BEGIN:STANDARD
TZOFFSETFROM:+0200
TZOFFSETTO:+0100
TZNAME:CET
DTSTART:20241027T010000
END:STANDARD
END:VTIMEZONE
BEGIN:VEVENT
DTSTART;TZID=Europe/Brussels:20230513T190000
DTEND;TZID=Europe/Brussels:20230513T203000
DTSTAMP:20260421T065340
CREATED:20211005T103558Z
LAST-MODIFIED:20220701T123440Z
UID:1631-1684004400-1684009800@letheatredelachute.be
SUMMARY:FUGUE
DESCRIPTION:Représentations au Centre culturel de Verviers\nBd des Gérardchamps 7c\, 4800 Verviers \n087 39 30 60 • billetterie@ccverviers.be \n\nDistribution mixte: jeunes verviétois et 3 comédiens du Théâtre de la Chute
URL:https://letheatredelachute.be/spectacle/fugue-12/
LOCATION:Centre culturel de Verviers\, Bd des Gérardchamps 7c\, Verviers\, 4800\, Belgique
CATEGORIES:fugue,Tous les spectacles
ATTACH;FMTTYPE=image/jpeg:https://letheatredelachute.be/wp-content/uploads/2021/09/Visuel-provisoire-1.jpeg
END:VEVENT
BEGIN:VEVENT
DTSTART;TZID=Europe/Brussels:20230514T110000
DTEND;TZID=Europe/Brussels:20230514T123000
DTSTAMP:20260421T065340
CREATED:20211005T103558Z
LAST-MODIFIED:20230427T090503Z
UID:1833-1684062000-1684067400@letheatredelachute.be
SUMMARY:FUGUE
DESCRIPTION:Représentations au Centre culturel de Verviers\nBd des Gérardchamps 7c\, 4800 Verviers \n087 39 30 60 • billetterie@ccverviers.be \nDistribution mixte: jeunes verviétois et 3 comédiens du Théâtre de la Chute
URL:https://letheatredelachute.be/spectacle/fugue-18/
LOCATION:Centre culturel de Verviers\, Bd des Gérardchamps 7c\, Verviers\, 4800\, Belgique
CATEGORIES:fugue,Tous les spectacles
ATTACH;FMTTYPE=image/jpeg:https://letheatredelachute.be/wp-content/uploads/2021/09/Visuel-provisoire-1.jpeg
END:VEVENT
BEGIN:VEVENT
DTSTART;TZID=Europe/Brussels:20230514T160000
DTEND;TZID=Europe/Brussels:20230514T173000
DTSTAMP:20260421T065340
CREATED:20211005T103558Z
LAST-MODIFIED:20220701T123518Z
UID:1634-1684080000-1684085400@letheatredelachute.be
SUMMARY:FUGUE
DESCRIPTION:Représentations au Centre culturel de Verviers\nBd des Gérardchamps 7c\, 4800 Verviers \n087 39 30 60 • billetterie@ccverviers.be \nDistribution mixte: jeunes verviétois et 3 comédiens du Théâtre de la Chute
URL:https://letheatredelachute.be/spectacle/fugue-13/
LOCATION:Centre culturel de Verviers\, Bd des Gérardchamps 7c\, Verviers\, 4800\, Belgique
CATEGORIES:fugue,Tous les spectacles
ATTACH;FMTTYPE=image/jpeg:https://letheatredelachute.be/wp-content/uploads/2021/09/Visuel-provisoire-1.jpeg
END:VEVENT
BEGIN:VEVENT
DTSTART;TZID=Europe/Brussels:20230524T203000
DTEND;TZID=Europe/Brussels:20230524T220000
DTSTAMP:20260421T065340
CREATED:20211125T113309Z
LAST-MODIFIED:20230427T085722Z
UID:1829-1684960200-1684965600@letheatredelachute.be
SUMMARY:Wild Party | Jazz-Théâtre
DESCRIPTION:Reprise exceptionnelle de la WILD PARTY pour une soirée de Jazz-Théâtre\n\nAvec: Greg Houben\, Sam Gertsmans\, Matthieu Vandenabeele\, Laurent Delchambre et Benoît Verhaert\nMise en scène: Frederik Haùgness\n\nRéservations
URL:https://letheatredelachute.be/spectacle/wild-party-jazz-theatre-2/
LOCATION:Maison de la culture d’Arlon\, Parc des Expositions\, 1 B\, Arlon\, Luxembourg\, 6700\, Belgique
CATEGORIES:Tous les spectacles
ATTACH;FMTTYPE=image/jpeg:https://letheatredelachute.be/wp-content/uploads/2021/11/wild-party-1-2.jpeg
END:VEVENT
BEGIN:VEVENT
DTSTART;TZID=Europe/Brussels:20230530T200000
DTEND;TZID=Europe/Brussels:20230530T213000
DTSTAMP:20260421T065340
CREATED:20211125T113309Z
LAST-MODIFIED:20230427T085626Z
UID:1831-1685476800-1685482200@letheatredelachute.be
SUMMARY:Wild Party | Jazz-Théâtre
DESCRIPTION:Reprise exceptionnelle de la WILD PARTY pour une soirée de Jazz-Théâtre\n\nAvec: Greg Houben\, Sam Gertsmans\, Matthieu Vandenabeele\, Laurent Delchambre et Benoît Verhaert\nMise en scène: Frederik Haùgness\n\nRéservations
URL:https://letheatredelachute.be/spectacle/wild-party-jazz-theatre-3/
LOCATION:Centre culturel de Comines-Warneton\, Rue des Arts 2\, Comines-Warneton\, 7780\, Belgique
CATEGORIES:Tous les spectacles
ATTACH;FMTTYPE=image/jpeg:https://letheatredelachute.be/wp-content/uploads/2021/11/wild-party-1-2.jpeg
END:VEVENT
END:VCALENDAR