BEGIN:VCALENDAR
VERSION:2.0
PRODID:-//Le théâtre de la Chute - ECPv6.15.20//NONSGML v1.0//EN
CALSCALE:GREGORIAN
METHOD:PUBLISH
X-WR-CALNAME:Le théâtre de la Chute
X-ORIGINAL-URL:https://letheatredelachute.be
X-WR-CALDESC:évènements pour Le théâtre de la Chute
REFRESH-INTERVAL;VALUE=DURATION:PT1H
X-Robots-Tag:noindex
X-PUBLISHED-TTL:PT1H
BEGIN:VTIMEZONE
TZID:Europe/Brussels
BEGIN:DAYLIGHT
TZOFFSETFROM:+0100
TZOFFSETTO:+0200
TZNAME:CEST
DTSTART:20220327T010000
END:DAYLIGHT
BEGIN:STANDARD
TZOFFSETFROM:+0200
TZOFFSETTO:+0100
TZNAME:CET
DTSTART:20221030T010000
END:STANDARD
BEGIN:DAYLIGHT
TZOFFSETFROM:+0100
TZOFFSETTO:+0200
TZNAME:CEST
DTSTART:20230326T010000
END:DAYLIGHT
BEGIN:STANDARD
TZOFFSETFROM:+0200
TZOFFSETTO:+0100
TZNAME:CET
DTSTART:20231029T010000
END:STANDARD
BEGIN:DAYLIGHT
TZOFFSETFROM:+0100
TZOFFSETTO:+0200
TZNAME:CEST
DTSTART:20240331T010000
END:DAYLIGHT
BEGIN:STANDARD
TZOFFSETFROM:+0200
TZOFFSETTO:+0100
TZNAME:CET
DTSTART:20241027T010000
END:STANDARD
END:VTIMEZONE
BEGIN:VEVENT
DTSTART;TZID=Europe/Brussels:20230316T103000
DTEND;TZID=Europe/Brussels:20230316T103000
DTSTAMP:20260421T100748
CREATED:20200727T141449Z
LAST-MODIFIED:20221212T092239Z
UID:1792-1678962600-1678962600@letheatredelachute.be
SUMMARY:L' Héautontimorouménos
DESCRIPTION:Un spectacle de Théâtre-Rock \nUne soirée très intime\, très poétique et très musicale \n\nComme une invitation à prendre un verre avec Baudelaire\n\nA faire avec lui une ballade sur un fil tendu entre fleurs idéales et bribes de spleen\n\nAvec Delphine Gardin\, Gilles Masson et Benoît Verhaert \n  \nLieu : \nCentre culturel de Huy | Espace Saint-Mengold \nPlace Verte\n4500 Huy
URL:https://letheatredelachute.be/spectacle/l-heautontimoroumenos-32/
LOCATION:Centre culturel de Huy\, Place Verte\, Huy\, 4500\, Belgique
CATEGORIES:L’Héautontimorouménos,scolaire,Tous les spectacles
ATTACH;FMTTYPE=image/jpeg:https://letheatredelachute.be/wp-content/uploads/2021/09/PHOTO-2020-09-29-23-26-12_5.jpg
END:VEVENT
BEGIN:VEVENT
DTSTART;TZID=Europe/Brussels:20230316T133000
DTEND;TZID=Europe/Brussels:20230316T133000
DTSTAMP:20260421T100748
CREATED:20200727T141449Z
LAST-MODIFIED:20221212T092324Z
UID:1795-1678973400-1678973400@letheatredelachute.be
SUMMARY:L' Héautontimorouménos
DESCRIPTION:Un spectacle de Théâtre-Rock \nUne soirée très intime\, très poétique et très musicale \n\nComme une invitation à prendre un verre avec Baudelaire\n\nA faire avec lui une ballade sur un fil tendu entre fleurs idéales et bribes de spleen\n\nAvec Delphine Gardin\, Gilles Masson et Benoît Verhaert \n  \nLieu : \nCentre culturel de Huy | Espace Saint-Mengold \nPlace Verte\n4500 Huy
URL:https://letheatredelachute.be/spectacle/l-heautontimoroumenos-33/
LOCATION:Centre culturel de Huy\, Place Verte\, Huy\, 4500\, Belgique
CATEGORIES:L’Héautontimorouménos,scolaire,Tous les spectacles
ATTACH;FMTTYPE=image/jpeg:https://letheatredelachute.be/wp-content/uploads/2021/09/PHOTO-2020-09-29-23-26-12_5.jpg
END:VEVENT
BEGIN:VEVENT
DTSTART;TZID=Europe/Brussels:20230317T103000
DTEND;TZID=Europe/Brussels:20230317T103000
DTSTAMP:20260421T100748
CREATED:20200727T141449Z
LAST-MODIFIED:20221212T092350Z
UID:1797-1679049000-1679049000@letheatredelachute.be
SUMMARY:L' Héautontimorouménos
DESCRIPTION:Un spectacle de Théâtre-Rock \nUne soirée très intime\, très poétique et très musicale \n\nComme une invitation à prendre un verre avec Baudelaire\n\nA faire avec lui une ballade sur un fil tendu entre fleurs idéales et bribes de spleen\n\nAvec Delphine Gardin\, Gilles Masson et Benoît Verhaert \n  \nLieu : \nCentre culturel de Huy | Espace Saint-Mengold \nPlace Verte\n4500 Huy
URL:https://letheatredelachute.be/spectacle/l-heautontimoroumenos-34/
LOCATION:Centre culturel de Huy\, Place Verte\, Huy\, 4500\, Belgique
CATEGORIES:L’Héautontimorouménos,scolaire,Tous les spectacles
ATTACH;FMTTYPE=image/jpeg:https://letheatredelachute.be/wp-content/uploads/2021/09/PHOTO-2020-09-29-23-26-12_5.jpg
END:VEVENT
BEGIN:VEVENT
DTSTART;TZID=Europe/Brussels:20230317T203000
DTEND;TZID=Europe/Brussels:20230317T203000
DTSTAMP:20260421T100748
CREATED:20200727T141449Z
LAST-MODIFIED:20221212T092434Z
UID:1799-1679085000-1679085000@letheatredelachute.be
SUMMARY:L' Héautontimorouménos
DESCRIPTION:Un spectacle de Théâtre-Rock \nUne soirée très intime\, très poétique et très musicale \n\nComme une invitation à prendre un verre avec Baudelaire\n\nA faire avec lui une ballade sur un fil tendu entre fleurs idéales et bribes de spleen\n\nAvec Delphine Gardin\, Gilles Masson et Benoît Verhaert \n  \nLieu : \nCentre culturel de Huy | Espace Saint-Mengold \nPlace Verte\n4500 Huy
URL:https://letheatredelachute.be/spectacle/l-heautontimoroumenos-35/
LOCATION:Centre culturel de Huy\, Place Verte\, Huy\, 4500\, Belgique
CATEGORIES:L’Héautontimorouménos,Tous les spectacles
ATTACH;FMTTYPE=image/jpeg:https://letheatredelachute.be/wp-content/uploads/2021/09/PHOTO-2020-09-29-23-26-12_5.jpg
END:VEVENT
BEGIN:VEVENT
DTSTART;TZID=Europe/Brussels:20230322T100000
DTEND;TZID=Europe/Brussels:20230322T120000
DTSTAMP:20260421T100748
CREATED:20190920T144513Z
LAST-MODIFIED:20220701T130737Z
UID:1639-1679479200-1679486400@letheatredelachute.be
SUMMARY:Un fils de notre temps
DESCRIPTION:VAS-Y DONC À LA GUERRE ET APPRENDS CE QUE C’EST !\n\n\nLe Senghor – Centre Culturel d’Etterbeek\n\n\n\n\n\n366 Chaussée de Wavre\n1040 Bruxelles\n+32(0)2 230 31 40\ninfo@senghor.be\n\n\n\n\n\n\n\n 
URL:https://letheatredelachute.be/spectacle/un-fils-de-notre-temps-30/
LOCATION:Le Senghor Centre culturel d’Etterbeek\, 366 Chaussée de Wavre\, Etterbeek\, 1040\, Belgique
CATEGORIES:scolaire,Tous les spectacles,Un fils de notre temps
ATTACH;FMTTYPE=image/jpeg:https://letheatredelachute.be/wp-content/uploads/2019/09/Fils-de-notre-temps-1.jpg
END:VEVENT
BEGIN:VEVENT
DTSTART;TZID=Europe/Brussels:20230322T200000
DTEND;TZID=Europe/Brussels:20230322T220000
DTSTAMP:20260421T100748
CREATED:20190920T144513Z
LAST-MODIFIED:20220701T130654Z
UID:1636-1679515200-1679522400@letheatredelachute.be
SUMMARY:Un fils de notre temps
DESCRIPTION:VAS-Y DONC À LA GUERRE ET APPRENDS CE QUE C’EST !\n\n\nLe Senghor – Centre Culturel d’Etterbeek\n\n\n\n\n\n366 Chaussée de Wavre\n1040 Bruxelles\n+32(0)2 230 31 40\ninfo@senghor.be\n\n\n\n\n\n\n\n 
URL:https://letheatredelachute.be/spectacle/un-fils-de-notre-temps-29/
LOCATION:Le Senghor Centre culturel d’Etterbeek\, 366 Chaussée de Wavre\, Etterbeek\, 1040\, Belgique
CATEGORIES:Tous les spectacles,Un fils de notre temps
ATTACH;FMTTYPE=image/jpeg:https://letheatredelachute.be/wp-content/uploads/2019/09/Fils-de-notre-temps-1.jpg
END:VEVENT
BEGIN:VEVENT
DTSTART;TZID=Europe/Brussels:20230330T140000
DTEND;TZID=Europe/Brussels:20230330T150000
DTSTAMP:20260421T100748
CREATED:20200727T141449Z
LAST-MODIFIED:20230120T101837Z
UID:1807-1680184800-1680188400@letheatredelachute.be
SUMMARY:L' Héautontimorouménos
DESCRIPTION:Un spectacle de Théâtre-Rock \nUne soirée très intime\, très poétique et très musicale \n\nComme une invitation à prendre un verre avec Baudelaire\n\nA faire avec lui une ballade sur un fil tendu entre fleurs idéales et bribes de spleen\n\nAvec Delphine Gardin\, Gilles Masson et Benoît Verhaert \n  \nLieu : \nCentre culturel de Stavelot | Salle Prume de l’abbaye de Stavelot \nCour de l’Abbaye 1\, 4970 Stavelot
URL:https://letheatredelachute.be/spectacle/l-heautontimoroumenos-36/
LOCATION:Centre culturel de Stavelot\, Cour de l'Abbaye 1\, Stavelot\, 4970\, Belgique
CATEGORIES:L’Héautontimorouménos,scolaire,Tous les spectacles
ATTACH;FMTTYPE=image/jpeg:https://letheatredelachute.be/wp-content/uploads/2021/11/©-JEAN-POUCET-69A5540.jpg
END:VEVENT
BEGIN:VEVENT
DTSTART;TZID=Europe/Brussels:20230330T200000
DTEND;TZID=Europe/Brussels:20230330T210000
DTSTAMP:20260421T100748
CREATED:20200727T141449Z
LAST-MODIFIED:20230120T101931Z
UID:1809-1680206400-1680210000@letheatredelachute.be
SUMMARY:L' Héautontimorouménos
DESCRIPTION:Un spectacle de Théâtre-Rock \nUne soirée très intime\, très poétique et très musicale \n\nComme une invitation à prendre un verre avec Baudelaire\n\nA faire avec lui une ballade sur un fil tendu entre fleurs idéales et bribes de spleen\n\nAvec Delphine Gardin\, Gilles Masson et Benoît Verhaert \n  \nLieu : \nCentre culturel de Stavelot | Salle Prume de l’abbaye de Stavelot \nCour de l’Abbaye 1\, 4970 Stavelot
URL:https://letheatredelachute.be/spectacle/l-heautontimoroumenos-37/
LOCATION:Centre culturel de Stavelot\, Cour de l'Abbaye 1\, Stavelot\, 4970\, Belgique
CATEGORIES:L’Héautontimorouménos,Tous les spectacles
ATTACH;FMTTYPE=image/jpeg:https://letheatredelachute.be/wp-content/uploads/2021/11/©-JEAN-POUCET-69A5540.jpg
END:VEVENT
END:VCALENDAR