BEGIN:VCALENDAR
VERSION:2.0
PRODID:-//Le théâtre de la Chute - ECPv6.15.20//NONSGML v1.0//EN
CALSCALE:GREGORIAN
METHOD:PUBLISH
X-WR-CALNAME:Le théâtre de la Chute
X-ORIGINAL-URL:https://letheatredelachute.be
X-WR-CALDESC:évènements pour Le théâtre de la Chute
REFRESH-INTERVAL;VALUE=DURATION:PT1H
X-Robots-Tag:noindex
X-PUBLISHED-TTL:PT1H
BEGIN:VTIMEZONE
TZID:Europe/Brussels
BEGIN:DAYLIGHT
TZOFFSETFROM:+0100
TZOFFSETTO:+0200
TZNAME:CEST
DTSTART:20210328T010000
END:DAYLIGHT
BEGIN:STANDARD
TZOFFSETFROM:+0200
TZOFFSETTO:+0100
TZNAME:CET
DTSTART:20211031T010000
END:STANDARD
BEGIN:DAYLIGHT
TZOFFSETFROM:+0100
TZOFFSETTO:+0200
TZNAME:CEST
DTSTART:20220327T010000
END:DAYLIGHT
BEGIN:STANDARD
TZOFFSETFROM:+0200
TZOFFSETTO:+0100
TZNAME:CET
DTSTART:20221030T010000
END:STANDARD
BEGIN:DAYLIGHT
TZOFFSETFROM:+0100
TZOFFSETTO:+0200
TZNAME:CEST
DTSTART:20230326T010000
END:DAYLIGHT
BEGIN:STANDARD
TZOFFSETFROM:+0200
TZOFFSETTO:+0100
TZNAME:CET
DTSTART:20231029T010000
END:STANDARD
END:VTIMEZONE
BEGIN:VEVENT
DTSTART;TZID=Europe/Brussels:20221107T200000
DTEND;TZID=Europe/Brussels:20221107T213000
DTSTAMP:20260421T154121
CREATED:20211005T103558Z
LAST-MODIFIED:20220701T094906Z
UID:1596-1667851200-1667856600@letheatredelachute.be
SUMMARY:FUGUE
DESCRIPTION:Représentations au Centre culturel de Schaerbeek\nRue de Locht\, 91/93 – 1030 Schaerbeek
URL:https://letheatredelachute.be/spectacle/fugue-7/
LOCATION:Centre culturel de Schaerbeek\, Rue de Locht 91-93\, Schaerbeek\, 1030\, Belgique
CATEGORIES:fugue,Tous les spectacles
ATTACH;FMTTYPE=image/jpeg:https://letheatredelachute.be/wp-content/uploads/2021/09/Visuel-provisoire-1.jpeg
END:VEVENT
BEGIN:VEVENT
DTSTART;TZID=Europe/Brussels:20221108T140000
DTEND;TZID=Europe/Brussels:20221108T153000
DTSTAMP:20260421T154121
CREATED:20211005T103558Z
LAST-MODIFIED:20220701T095039Z
UID:1601-1667916000-1667921400@letheatredelachute.be
SUMMARY:FUGUE
DESCRIPTION:Représentations au Centre culturel de Schaerbeek\nRue de Locht\, 91/93 – 1030 Schaerbeek
URL:https://letheatredelachute.be/spectacle/fugue-9/
LOCATION:Centre culturel de Schaerbeek\, Rue de Locht 91-93\, Schaerbeek\, 1030\, Belgique
CATEGORIES:fugue,scolaire,Tous les spectacles
ATTACH;FMTTYPE=image/jpeg:https://letheatredelachute.be/wp-content/uploads/2021/09/Visuel-provisoire-1.jpeg
END:VEVENT
BEGIN:VEVENT
DTSTART;TZID=Europe/Brussels:20221108T200000
DTEND;TZID=Europe/Brussels:20221108T213000
DTSTAMP:20260421T154121
CREATED:20211005T103558Z
LAST-MODIFIED:20220701T094944Z
UID:1599-1667937600-1667943000@letheatredelachute.be
SUMMARY:FUGUE
DESCRIPTION:Représentations au Centre culturel de Schaerbeek\nRue de Locht\, 91/93 – 1030 Schaerbeek
URL:https://letheatredelachute.be/spectacle/fugue-8/
LOCATION:Centre culturel de Schaerbeek\, Rue de Locht 91-93\, Schaerbeek\, 1030\, Belgique
CATEGORIES:fugue,Tous les spectacles
ATTACH;FMTTYPE=image/jpeg:https://letheatredelachute.be/wp-content/uploads/2021/09/Visuel-provisoire-1.jpeg
END:VEVENT
BEGIN:VEVENT
DTSTART;TZID=Europe/Brussels:20221110T140000
DTEND;TZID=Europe/Brussels:20221110T153000
DTSTAMP:20260421T154121
CREATED:20211005T103558Z
LAST-MODIFIED:20220701T095953Z
UID:1605-1668088800-1668094200@letheatredelachute.be
SUMMARY:FUGUE
DESCRIPTION:Représentations au Centre culturel de Schaerbeek\nRue de Locht\, 91/93 – 1030 Schaerbeek
URL:https://letheatredelachute.be/spectacle/fugue-11/
LOCATION:Centre culturel de Schaerbeek\, Rue de Locht 91-93\, Schaerbeek\, 1030\, Belgique
CATEGORIES:fugue,scolaire,Tous les spectacles
ATTACH;FMTTYPE=image/jpeg:https://letheatredelachute.be/wp-content/uploads/2021/09/Visuel-provisoire-1.jpeg
END:VEVENT
BEGIN:VEVENT
DTSTART;TZID=Europe/Brussels:20221110T200000
DTEND;TZID=Europe/Brussels:20221110T213000
DTSTAMP:20260421T154121
CREATED:20211005T103558Z
LAST-MODIFIED:20220701T095906Z
UID:1603-1668110400-1668115800@letheatredelachute.be
SUMMARY:FUGUE
DESCRIPTION:Représentations au Centre culturel de Schaerbeek\nRue de Locht\, 91/93 – 1030 Schaerbeek
URL:https://letheatredelachute.be/spectacle/fugue-10/
LOCATION:Centre culturel de Schaerbeek\, Rue de Locht 91-93\, Schaerbeek\, 1030\, Belgique
CATEGORIES:fugue,Tous les spectacles
ATTACH;FMTTYPE=image/jpeg:https://letheatredelachute.be/wp-content/uploads/2021/09/Visuel-provisoire-1.jpeg
END:VEVENT
BEGIN:VEVENT
DTSTART;TZID=Europe/Brussels:20221113T200000
DTEND;TZID=Europe/Brussels:20221113T213000
DTSTAMP:20260421T154121
CREATED:20211005T103558Z
LAST-MODIFIED:20220701T103059Z
UID:1607-1668369600-1668375000@letheatredelachute.be
SUMMARY:LA CHUTE
DESCRIPTION:Représentations à La Tricoterie\nRue Théodore Verhaegen 158\, 1060 Bruxelles \nInfos: letheatredelachute@gmail.com
URL:https://letheatredelachute.be/spectacle/la-chute/
LOCATION:La Tricoterie\, Rue Théodore Verhaegen 158\, Saint-Gilles\, 1060\, Belgique
CATEGORIES:la chute,Tous les spectacles
ATTACH;FMTTYPE=image/jpeg:https://letheatredelachute.be/wp-content/uploads/2019/10/4.-LA-CHUTE-copy-Pierre-Bodson.jpg
END:VEVENT
BEGIN:VEVENT
DTSTART;TZID=Europe/Brussels:20221119T203000
DTEND;TZID=Europe/Brussels:20221119T220000
DTSTAMP:20260421T154121
CREATED:20200529T105512Z
LAST-MODIFIED:20220701T122912Z
UID:1623-1668889800-1668895200@letheatredelachute.be
SUMMARY:L'ETRANGER
DESCRIPTION:Aujourd’hui maman est morte. Ou peut-être hier\, je ne sais pas.  \nJ’ai reçu un télégramme de l’asile :  \n« Mère décédée. Enterrement demain. Sentiments distingués. »  \nCela ne veut rien dire. C’était peut-être hier. \n\n\n\n\n\nL’histoire commence par l’annonce froide à Meursault du décès de sa mère. Pendant l’enterrement\, par une chaleur caniculaire\, on constate que ce deuil semble ne lui faire ni chaud ni froid. Ensuite\, nous assistons\, dans une banlieue de l’Algérie française des années 40\, au petit quotidien banal de ce jeune pied-noir\, personnage étrange à force d’avoir l’air indifférent à tout.  \nC’est en commettant un meurtre qu’il prend conscience qu’il avait peut-être été jusque-là étranger à lui-même\, à sa propre vie\, et que l’acte qu’il vient de poser aura des conséquences.  \nJ’ai compris que j’avais détruit l’équilibre du jour. \nLa deuxième partie du livre raconte le procès de Meursault. Celui-ci répondra toujours la vérité\, la sienne\, aux juges qui l’interrogeront\, sans jamais chercher à arranger la réalité pour tenter de sauver sa peau. A la question : Pourquoi avez-vous tué ? Il répond : Parce qu’il y avait du soleil. Meursault sera condamné à mort. \n« L’Etranger »\, selon Camus lui-même\, c’est l’histoire d’un homme condamné à mort pour n’avoir pas pleuré à l’enterrement de sa mère.
URL:https://letheatredelachute.be/spectacle/letranger-3/
LOCATION:Centre culturel d’Andenne\, Rue de la Papeterie\, 2A\, Andenne\, 5300\, Belgique
CATEGORIES:l'étranger,Tous les spectacles
ATTACH;FMTTYPE=image/jpeg:https://letheatredelachute.be/wp-content/uploads/2020/05/8714195126_178f33f882_o-scaled.jpg
END:VEVENT
BEGIN:VEVENT
DTSTART;TZID=Europe/Brussels:20221120T200000
DTEND;TZID=Europe/Brussels:20221120T213000
DTSTAMP:20260421T154121
CREATED:20211005T103558Z
LAST-MODIFIED:20220701T103138Z
UID:1610-1668974400-1668979800@letheatredelachute.be
SUMMARY:LA CHUTE
DESCRIPTION:Représentations à La Tricoterie\nRue Théodore Verhaegen 158\, 1060 Bruxelles \nInfos: letheatredelachute@gmail.com
URL:https://letheatredelachute.be/spectacle/la-chute-2/
LOCATION:La Tricoterie\, Rue Théodore Verhaegen 158\, Saint-Gilles\, 1060\, Belgique
CATEGORIES:la chute,Tous les spectacles
ATTACH;FMTTYPE=image/jpeg:https://letheatredelachute.be/wp-content/uploads/2019/10/4.-LA-CHUTE-copy-Pierre-Bodson.jpg
END:VEVENT
BEGIN:VEVENT
DTSTART;TZID=Europe/Brussels:20221124T140000
DTEND;TZID=Europe/Brussels:20221124T150000
DTSTAMP:20260421T154121
CREATED:20200727T141449Z
LAST-MODIFIED:20220701T104106Z
UID:1621-1669298400-1669302000@letheatredelachute.be
SUMMARY:L' Héautontimorouménos
DESCRIPTION:ou l’impitoyable lucidité du dandy devant son miroir. \nUn spectacle de Théâtre-Rock \nUne soirée très intime\, très poétique et très musicale \n\nComme une invitation à prendre un verre avec Baudelaire\n\nA faire avec lui une ballade sur un fil tendu entre fleurs idéales et bribes de spleen\n\nAvec Delphine Gardin\, Gilles Masson et Benoît Verhaert \n  \nLieu : \nL’Os à Moelle | Av. Emile Max\, 153 – 1030 Bruxelles \nL’entrée de la salle se trouve au bout du couloir extérieur puis à droite au fond de la cour\, la porte rouge.
URL:https://letheatredelachute.be/spectacle/l-heautontimoroumenos-31/
LOCATION:L’Os à Moëlle\, Av. Emile Max\, 153\, Schaerbeek\, 1030\, Belgique
CATEGORIES:L’Héautontimorouménos,scolaire,Tous les spectacles
ATTACH;FMTTYPE=image/jpeg:https://letheatredelachute.be/wp-content/uploads/2021/09/PHOTO-2020-09-29-23-26-12_5.jpg
END:VEVENT
BEGIN:VEVENT
DTSTART;TZID=Europe/Brussels:20221124T200000
DTEND;TZID=Europe/Brussels:20221124T210000
DTSTAMP:20260421T154121
CREATED:20200727T141449Z
LAST-MODIFIED:20220701T103931Z
UID:1614-1669320000-1669323600@letheatredelachute.be
SUMMARY:L' Héautontimorouménos
DESCRIPTION:ou l’impitoyable lucidité du dandy devant son miroir. \nUn spectacle de Théâtre-Rock \nUne soirée très intime\, très poétique et très musicale \n\nComme une invitation à prendre un verre avec Baudelaire\n\nA faire avec lui une ballade sur un fil tendu entre fleurs idéales et bribes de spleen\n\nAvec Delphine Gardin\, Gilles Masson et Benoît Verhaert \n  \nLieu : \nL’Os à Moelle | Av. Emile Max\, 153 – 1030 Bruxelles \nL’entrée de la salle se trouve au bout du couloir extérieur puis à droite au fond de la cour\, la porte rouge.
URL:https://letheatredelachute.be/spectacle/l-heautontimoroumenos-28/
LOCATION:L’Os à Moëlle\, Av. Emile Max\, 153\, Schaerbeek\, 1030\, Belgique
CATEGORIES:L’Héautontimorouménos,Tous les spectacles
ATTACH;FMTTYPE=image/jpeg:https://letheatredelachute.be/wp-content/uploads/2021/09/PHOTO-2020-09-29-23-26-12_5.jpg
END:VEVENT
BEGIN:VEVENT
DTSTART;TZID=Europe/Brussels:20221125T200000
DTEND;TZID=Europe/Brussels:20221125T210000
DTSTAMP:20260421T154121
CREATED:20200727T141449Z
LAST-MODIFIED:20220701T104003Z
UID:1617-1669406400-1669410000@letheatredelachute.be
SUMMARY:L' Héautontimorouménos
DESCRIPTION:ou l’impitoyable lucidité du dandy devant son miroir. \nUn spectacle de Théâtre-Rock \nUne soirée très intime\, très poétique et très musicale \n\nComme une invitation à prendre un verre avec Baudelaire\n\nA faire avec lui une ballade sur un fil tendu entre fleurs idéales et bribes de spleen\n\nAvec Delphine Gardin\, Gilles Masson et Benoît Verhaert \n  \nLieu : \nL’Os à Moelle | Av. Emile Max\, 153 – 1030 Bruxelles \nL’entrée de la salle se trouve au bout du couloir extérieur puis à droite au fond de la cour\, la porte rouge.
URL:https://letheatredelachute.be/spectacle/l-heautontimoroumenos-29/
LOCATION:L’Os à Moëlle\, Av. Emile Max\, 153\, Schaerbeek\, 1030\, Belgique
CATEGORIES:L’Héautontimorouménos,Tous les spectacles
ATTACH;FMTTYPE=image/jpeg:https://letheatredelachute.be/wp-content/uploads/2021/09/PHOTO-2020-09-29-23-26-12_5.jpg
END:VEVENT
BEGIN:VEVENT
DTSTART;TZID=Europe/Brussels:20221126T200000
DTEND;TZID=Europe/Brussels:20221126T210000
DTSTAMP:20260421T154121
CREATED:20200727T141449Z
LAST-MODIFIED:20220701T104030Z
UID:1619-1669492800-1669496400@letheatredelachute.be
SUMMARY:L' Héautontimorouménos
DESCRIPTION:ou l’impitoyable lucidité du dandy devant son miroir. \nUn spectacle de Théâtre-Rock \nUne soirée très intime\, très poétique et très musicale \n\nComme une invitation à prendre un verre avec Baudelaire\n\nA faire avec lui une ballade sur un fil tendu entre fleurs idéales et bribes de spleen\n\nAvec Delphine Gardin\, Gilles Masson et Benoît Verhaert \n  \nLieu : \nL’Os à Moelle | Av. Emile Max\, 153 – 1030 Bruxelles \nL’entrée de la salle se trouve au bout du couloir extérieur puis à droite au fond de la cour\, la porte rouge.
URL:https://letheatredelachute.be/spectacle/l-heautontimoroumenos-30/
LOCATION:L’Os à Moëlle\, Av. Emile Max\, 153\, Schaerbeek\, 1030\, Belgique
CATEGORIES:L’Héautontimorouménos,Tous les spectacles
ATTACH;FMTTYPE=image/jpeg:https://letheatredelachute.be/wp-content/uploads/2021/09/PHOTO-2020-09-29-23-26-12_5.jpg
END:VEVENT
BEGIN:VEVENT
DTSTART;TZID=Europe/Brussels:20221127T200000
DTEND;TZID=Europe/Brussels:20221127T213000
DTSTAMP:20260421T154121
CREATED:20211005T103558Z
LAST-MODIFIED:20220701T103210Z
UID:1612-1669579200-1669584600@letheatredelachute.be
SUMMARY:LA CHUTE
DESCRIPTION:Représentations à La Tricoterie\nRue Théodore Verhaegen 158\, 1060 Bruxelles \nInfos: letheatredelachute@gmail.com
URL:https://letheatredelachute.be/spectacle/la-chute-3/
LOCATION:La Tricoterie\, Rue Théodore Verhaegen 158\, Saint-Gilles\, 1060\, Belgique
CATEGORIES:la chute,Tous les spectacles
ATTACH;FMTTYPE=image/jpeg:https://letheatredelachute.be/wp-content/uploads/2019/10/4.-LA-CHUTE-copy-Pierre-Bodson.jpg
END:VEVENT
END:VCALENDAR