BEGIN:VCALENDAR
VERSION:2.0
PRODID:-//Le théâtre de la Chute - ECPv6.15.20//NONSGML v1.0//EN
CALSCALE:GREGORIAN
METHOD:PUBLISH
X-ORIGINAL-URL:https://letheatredelachute.be
X-WR-CALDESC:évènements pour Le théâtre de la Chute
REFRESH-INTERVAL;VALUE=DURATION:PT1H
X-Robots-Tag:noindex
X-PUBLISHED-TTL:PT1H
BEGIN:VTIMEZONE
TZID:Europe/Brussels
BEGIN:DAYLIGHT
TZOFFSETFROM:+0100
TZOFFSETTO:+0200
TZNAME:CEST
DTSTART:20210328T010000
END:DAYLIGHT
BEGIN:STANDARD
TZOFFSETFROM:+0200
TZOFFSETTO:+0100
TZNAME:CET
DTSTART:20211031T010000
END:STANDARD
BEGIN:DAYLIGHT
TZOFFSETFROM:+0100
TZOFFSETTO:+0200
TZNAME:CEST
DTSTART:20220327T010000
END:DAYLIGHT
BEGIN:STANDARD
TZOFFSETFROM:+0200
TZOFFSETTO:+0100
TZNAME:CET
DTSTART:20221030T010000
END:STANDARD
BEGIN:DAYLIGHT
TZOFFSETFROM:+0100
TZOFFSETTO:+0200
TZNAME:CEST
DTSTART:20230326T010000
END:DAYLIGHT
BEGIN:STANDARD
TZOFFSETFROM:+0200
TZOFFSETTO:+0100
TZNAME:CET
DTSTART:20231029T010000
END:STANDARD
END:VTIMEZONE
BEGIN:VEVENT
DTSTART;TZID=Europe/Brussels:20220119T200000
DTEND;TZID=Europe/Brussels:20220119T210000
DTSTAMP:20260422T062728
CREATED:20200727T141449Z
LAST-MODIFIED:20211021T134812Z
UID:1381-1642622400-1642626000@letheatredelachute.be
SUMMARY:L' Héautontimorouménos
DESCRIPTION:ou l’impitoyable lucidité du dandy devant son miroir. \nUn spectacle de Théâtre-Rock \nUne soirée très intime\, très poétique et très musicale \n\nComme une invitation à prendre un verre avec Baudelaire\n\nA faire avec lui une ballade sur un fil tendu entre fleurs idéales et bribes de spleen\n\nAvec Delphine Gardin\, Gilles Masson et Benoît Verhaert \n  \nLa billetterie : L’Arsenal // Rue de la Procession 47 à Comines-Warneton\ndu mardi au vendredi de 14h à 18h et durant certaines activités : billetterie@cccw.be \ninfo@cccw.be  \n 
URL:https://letheatredelachute.be/spectacle/l-heautontimoroumenos-15/
LOCATION:Centre culturel de Comines-Warneton\, Rue des Arts 2\, Comines-Warneton\, 7780\, Belgique
CATEGORIES:L’Héautontimorouménos,Tous les spectacles
ATTACH;FMTTYPE=image/jpeg:https://letheatredelachute.be/wp-content/uploads/2021/09/PHOTO-2020-09-29-23-26-12_5.jpg
END:VEVENT
BEGIN:VEVENT
DTSTART;TZID=Europe/Brussels:20220120T133000
DTEND;TZID=Europe/Brussels:20220120T143000
DTSTAMP:20260422T062728
CREATED:20200727T141449Z
LAST-MODIFIED:20211021T134648Z
UID:1385-1642685400-1642689000@letheatredelachute.be
SUMMARY:L' Héautontimorouménos
DESCRIPTION:ou l’impitoyable lucidité du dandy devant son miroir. \nUn spectacle de Théâtre-Rock \nUne soirée très intime\, très poétique et très musicale \n\nComme une invitation à prendre un verre avec Baudelaire\n\nA faire avec lui une ballade sur un fil tendu entre fleurs idéales et bribes de spleen\n\nAvec Delphine Gardin\, Gilles Masson et Benoît Verhaert \n  \n\nCentre Marius Staquet \nPlace Charles de Gaulle\, 10 – 7700 MOUSCRON \n\n Tél. : (00.32)56/860.160\n billetterie.staquet@mouscron.be\n 
URL:https://letheatredelachute.be/spectacle/l-heautontimoroumenos-17/
LOCATION:Centre culturel de Mouscron\, Place Charles de Gaulle\, 10\, Mouscron\, 7700\, Belgique
CATEGORIES:L’Héautontimorouménos,scolaire,Tous les spectacles
ATTACH;FMTTYPE=image/jpeg:https://letheatredelachute.be/wp-content/uploads/2021/09/PHOTO-2020-09-29-23-26-12_5.jpg
END:VEVENT
BEGIN:VEVENT
DTSTART;TZID=Europe/Brussels:20220120T203000
DTEND;TZID=Europe/Brussels:20220120T213000
DTSTAMP:20260422T062728
CREATED:20200727T141449Z
LAST-MODIFIED:20211021T134620Z
UID:1383-1642710600-1642714200@letheatredelachute.be
SUMMARY:L' Héautontimorouménos
DESCRIPTION:ou l’impitoyable lucidité du dandy devant son miroir. \nUn spectacle de Théâtre-Rock \nUne soirée très intime\, très poétique et très musicale \n\nComme une invitation à prendre un verre avec Baudelaire\n\nA faire avec lui une ballade sur un fil tendu entre fleurs idéales et bribes de spleen\n\nAvec Delphine Gardin\, Gilles Masson et Benoît Verhaert \n  \n\nCentre Marius Staquet \nPlace Charles de Gaulle\, 10 – 7700 MOUSCRON \n\n Tél. : (00.32)56/860.160\n billetterie.staquet@mouscron.be\n 
URL:https://letheatredelachute.be/spectacle/l-heautontimoroumenos-16/
LOCATION:Centre culturel de Mouscron\, Place Charles de Gaulle\, 10\, Mouscron\, 7700\, Belgique
CATEGORIES:L’Héautontimorouménos,Tous les spectacles
ATTACH;FMTTYPE=image/jpeg:https://letheatredelachute.be/wp-content/uploads/2021/09/PHOTO-2020-09-29-23-26-12_5.jpg
END:VEVENT
BEGIN:VEVENT
DTSTART;TZID=Europe/Brussels:20220121T103000
DTEND;TZID=Europe/Brussels:20220121T113000
DTSTAMP:20260422T062728
CREATED:20200727T141449Z
LAST-MODIFIED:20211021T134555Z
UID:1387-1642761000-1642764600@letheatredelachute.be
SUMMARY:L' Héautontimorouménos
DESCRIPTION:ou l’impitoyable lucidité du dandy devant son miroir. \nUn spectacle de Théâtre-Rock \nUne soirée très intime\, très poétique et très musicale \n\nComme une invitation à prendre un verre avec Baudelaire\n\nA faire avec lui une ballade sur un fil tendu entre fleurs idéales et bribes de spleen\n\nAvec Delphine Gardin\, Gilles Masson et Benoît Verhaert \n  \n\nCentre Marius Staquet \nPlace Charles de Gaulle\, 10 – 7700 MOUSCRON \n\n Tél. : (00.32)56/860.160\n billetterie.staquet@mouscron.be\n 
URL:https://letheatredelachute.be/spectacle/l-heautontimoroumenos-18/
LOCATION:Centre culturel de Mouscron\, Place Charles de Gaulle\, 10\, Mouscron\, 7700\, Belgique
CATEGORIES:L’Héautontimorouménos,scolaire,Tous les spectacles
ATTACH;FMTTYPE=image/jpeg:https://letheatredelachute.be/wp-content/uploads/2021/09/PHOTO-2020-09-29-23-26-12_5.jpg
END:VEVENT
BEGIN:VEVENT
DTSTART;TZID=Europe/Brussels:20220122T200000
DTEND;TZID=Europe/Brussels:20220122T210000
DTSTAMP:20260422T062728
CREATED:20191230T171336Z
LAST-MODIFIED:20220113T112340Z
UID:1562-1642881600-1642885200@letheatredelachute.be
SUMMARY:Claque
DESCRIPTION:Un petit solo rigolo à voir ou à revoir\, de toute façon c’est jamais deux fois pareil parce que…je sais pas…la mémoire…parfois la mémoire  joue de ces tours… \nCentre culturel de Jodoigne \nLieu de l’évènement : Chapelle Notre-Dame du Marché\nGrand-Place\,1\n1370 Jodoigne \nContact : 010 81 15 15 – info@culurejodoigne.be
URL:https://letheatredelachute.be/spectacle/claque-3/
LOCATION:Centre culturel de Jodoigne\, Chapelle Notre-Dame du Marché Grand-Place\,1\, Jodoigne\, 1370
CATEGORIES:Claque,Tous les spectacles
ATTACH;FMTTYPE=image/jpeg:https://letheatredelachute.be/wp-content/uploads/2019/10/ls-slider-4-slide-1.jpg
END:VEVENT
BEGIN:VEVENT
DTSTART;TZID=Europe/Brussels:20220125T133000
DTEND;TZID=Europe/Brussels:20220125T143000
DTSTAMP:20260422T062728
CREATED:20200727T141449Z
LAST-MODIFIED:20211021T134415Z
UID:1395-1643117400-1643121000@letheatredelachute.be
SUMMARY:L' Héautontimorouménos
DESCRIPTION:ou l’impitoyable lucidité du dandy devant son miroir. \nUn spectacle de Théâtre-Rock \nUne soirée très intime\, très poétique et très musicale \n\nComme une invitation à prendre un verre avec Baudelaire\n\nA faire avec lui une ballade sur un fil tendu entre fleurs idéales et bribes de spleen\n\nAvec Delphine Gardin\, Gilles Masson et Benoît Verhaert \n  \n\n\n\n\n\nParc des Expositions\, 1\n 6700 Arlon \n\n\n\n\n\n\n+32 (0) 63 24 58 50\ninfo@maison-culture-arlon.be\n\n\n\n\n 
URL:https://letheatredelachute.be/spectacle/l-heautontimoroumenos-19/
LOCATION:Maison de la culture d’Arlon\, Parc des Expositions\, 1 B\, Arlon\, Luxembourg\, 6700\, Belgique
CATEGORIES:L’Héautontimorouménos,scolaire,Tous les spectacles
ATTACH;FMTTYPE=image/jpeg:https://letheatredelachute.be/wp-content/uploads/2021/09/PHOTO-2020-09-29-23-26-12_5.jpg
END:VEVENT
BEGIN:VEVENT
DTSTART;TZID=Europe/Brussels:20220125T203000
DTEND;TZID=Europe/Brussels:20220125T213000
DTSTAMP:20260422T062728
CREATED:20200727T141449Z
LAST-MODIFIED:20211021T134501Z
UID:1397-1643142600-1643146200@letheatredelachute.be
SUMMARY:L' Héautontimorouménos
DESCRIPTION:ou l’impitoyable lucidité du dandy devant son miroir. \nUn spectacle de Théâtre-Rock \nUne soirée très intime\, très poétique et très musicale \n\nComme une invitation à prendre un verre avec Baudelaire\n\nA faire avec lui une ballade sur un fil tendu entre fleurs idéales et bribes de spleen\n\nAvec Delphine Gardin\, Gilles Masson et Benoît Verhaert \n  \n\n\n\n\n\nParc des Expositions\, 1\n 6700 Arlon \n\n\n\n\n\n\n+32 (0) 63 24 58 50\ninfo@maison-culture-arlon.be\n\n\n\n\n 
URL:https://letheatredelachute.be/spectacle/l-heautontimoroumenos-20/
LOCATION:Maison de la culture d’Arlon\, Parc des Expositions\, 1 B\, Arlon\, Luxembourg\, 6700\, Belgique
CATEGORIES:L’Héautontimorouménos,Tous les spectacles
ATTACH;FMTTYPE=image/jpeg:https://letheatredelachute.be/wp-content/uploads/2021/09/PHOTO-2020-09-29-23-26-12_5.jpg
END:VEVENT
BEGIN:VEVENT
DTSTART;TZID=Europe/Brussels:20220127T200000
DTEND;TZID=Europe/Brussels:20220127T210000
DTSTAMP:20260422T062728
CREATED:20200727T141449Z
LAST-MODIFIED:20211021T135239Z
UID:1399-1643313600-1643317200@letheatredelachute.be
SUMMARY:L' Héautontimorouménos
DESCRIPTION:ou l’impitoyable lucidité du dandy devant son miroir. \nUn spectacle de Théâtre-Rock \nUne soirée très intime\, très poétique et très musicale \n\nComme une invitation à prendre un verre avec Baudelaire\n\nA faire avec lui une ballade sur un fil tendu entre fleurs idéales et bribes de spleen\n\nAvec Delphine Gardin\, Gilles Masson et Benoît Verhaert \n\n\nEspace culturel Victor Jara – Soignies\n\nPlace Van Zeeland\, 31\nSoignies\, 7060 Belgium\n067 347 428
URL:https://letheatredelachute.be/spectacle/l-heautontimoroumenos-21/
LOCATION:Centre culturel de Soignies\, Pl. van Zeeland 31\, Soignies\, 7060\, Belgium
CATEGORIES:L’Héautontimorouménos,Tous les spectacles
ATTACH;FMTTYPE=image/jpeg:https://letheatredelachute.be/wp-content/uploads/2021/09/PHOTO-2020-09-29-23-26-12_5.jpg
END:VEVENT
BEGIN:VEVENT
DTSTART;TZID=Europe/Brussels:20220128T140000
DTEND;TZID=Europe/Brussels:20220128T150000
DTSTAMP:20260422T062728
CREATED:20200727T141449Z
LAST-MODIFIED:20211021T135600Z
UID:1402-1643378400-1643382000@letheatredelachute.be
SUMMARY:L' Héautontimorouménos
DESCRIPTION:ou l’impitoyable lucidité du dandy devant son miroir. \nUn spectacle de Théâtre-Rock \nUne soirée très intime\, très poétique et très musicale \n\nComme une invitation à prendre un verre avec Baudelaire\n\nA faire avec lui une ballade sur un fil tendu entre fleurs idéales et bribes de spleen\n\nAvec Delphine Gardin\, Gilles Masson et Benoît Verhaert \n  \nLieu : LE PALACE – Rue de Brantignies 4 – 7800 Ath \nInfos et réservations: 068 68 19 98
URL:https://letheatredelachute.be/spectacle/l-heautontimoroumenos-22/
LOCATION:Maison culturelle d’Ath\, Rue de Brantignies 4\, Ath\, 7800
CATEGORIES:L’Héautontimorouménos,scolaire,Tous les spectacles
ATTACH;FMTTYPE=image/jpeg:https://letheatredelachute.be/wp-content/uploads/2021/09/PHOTO-2020-09-29-23-26-12_5.jpg
END:VEVENT
BEGIN:VEVENT
DTSTART;TZID=Europe/Brussels:20220128T200000
DTEND;TZID=Europe/Brussels:20220128T210000
DTSTAMP:20260422T062728
CREATED:20200727T141449Z
LAST-MODIFIED:20211021T135836Z
UID:1406-1643400000-1643403600@letheatredelachute.be
SUMMARY:L' Héautontimorouménos
DESCRIPTION:ou l’impitoyable lucidité du dandy devant son miroir. \nUn spectacle de Théâtre-Rock \nUne soirée très intime\, très poétique et très musicale \n\nComme une invitation à prendre un verre avec Baudelaire\n\nA faire avec lui une ballade sur un fil tendu entre fleurs idéales et bribes de spleen\n\nAvec Delphine Gardin\, Gilles Masson et Benoît Verhaert \n  \nLieu : LE PALACE – Rue de Brantignies 4 – 7800 Ath \nInfos et réservations: 068 68 19 98
URL:https://letheatredelachute.be/spectacle/l-heautontimoroumenos-23/
LOCATION:Maison culturelle d’Ath\, Rue de Brantignies 4\, Ath\, 7800
CATEGORIES:L’Héautontimorouménos,Tous les spectacles
ATTACH;FMTTYPE=image/jpeg:https://letheatredelachute.be/wp-content/uploads/2021/09/PHOTO-2020-09-29-23-26-12_5.jpg
END:VEVENT
END:VCALENDAR