BEGIN:VCALENDAR
VERSION:2.0
PRODID:-//Le théâtre de la Chute - ECPv6.15.20//NONSGML v1.0//EN
CALSCALE:GREGORIAN
METHOD:PUBLISH
X-WR-CALNAME:Le théâtre de la Chute
X-ORIGINAL-URL:https://letheatredelachute.be
X-WR-CALDESC:évènements pour Le théâtre de la Chute
REFRESH-INTERVAL;VALUE=DURATION:PT1H
X-Robots-Tag:noindex
X-PUBLISHED-TTL:PT1H
BEGIN:VTIMEZONE
TZID:Europe/Brussels
BEGIN:DAYLIGHT
TZOFFSETFROM:+0100
TZOFFSETTO:+0200
TZNAME:CEST
DTSTART:20200329T010000
END:DAYLIGHT
BEGIN:STANDARD
TZOFFSETFROM:+0200
TZOFFSETTO:+0100
TZNAME:CET
DTSTART:20201025T010000
END:STANDARD
BEGIN:DAYLIGHT
TZOFFSETFROM:+0100
TZOFFSETTO:+0200
TZNAME:CEST
DTSTART:20210328T010000
END:DAYLIGHT
BEGIN:STANDARD
TZOFFSETFROM:+0200
TZOFFSETTO:+0100
TZNAME:CET
DTSTART:20211031T010000
END:STANDARD
BEGIN:DAYLIGHT
TZOFFSETFROM:+0100
TZOFFSETTO:+0200
TZNAME:CEST
DTSTART:20220327T010000
END:DAYLIGHT
BEGIN:STANDARD
TZOFFSETFROM:+0200
TZOFFSETTO:+0100
TZNAME:CET
DTSTART:20221030T010000
END:STANDARD
END:VTIMEZONE
BEGIN:VEVENT
DTSTART;TZID=Europe/Brussels:20211108T174500
DTEND;TZID=Europe/Brussels:20211108T190000
DTSTAMP:20260422T085600
CREATED:20211005T103558Z
LAST-MODIFIED:20211005T103558Z
UID:1368-1636393500-1636398000@letheatredelachute.be
SUMMARY:FUGUE
DESCRIPTION:Représentations au Studio du Petit Varia\nOuverture des portes avec Récits de ville en vidéo à 17h45 \nDébut de la représentation à 18h00 \n\nRESERVATION & BILLETTERIE\nT : 02 640 35 50 – reservation@varia.be
URL:https://letheatredelachute.be/spectacle/fugue/
LOCATION:Petit Varia\, Rue Gray 154\, Ixelles\, 1050\, Belgique
CATEGORIES:fugue,Tous les spectacles
ATTACH;FMTTYPE=image/jpeg:https://letheatredelachute.be/wp-content/uploads/2021/09/Visuel-provisoire-1.jpeg
END:VEVENT
BEGIN:VEVENT
DTSTART;TZID=Europe/Brussels:20211109T174500
DTEND;TZID=Europe/Brussels:20211109T190000
DTSTAMP:20260422T085600
CREATED:20211005T103558Z
LAST-MODIFIED:20211005T103742Z
UID:1370-1636479900-1636484400@letheatredelachute.be
SUMMARY:FUGUE
DESCRIPTION:Représentations au Studio du Petit Varia\nOuverture des portes avec Récits de ville en vidéo à 17h45 \nDébut de la représentation à 18h00 \n\nRESERVATION & BILLETTERIE\nT : 02 640 35 50 – reservation@varia.be
URL:https://letheatredelachute.be/spectacle/fugue-2/
LOCATION:Petit Varia\, Rue Gray 154\, Ixelles\, 1050\, Belgique
CATEGORIES:fugue,Tous les spectacles
ATTACH;FMTTYPE=image/jpeg:https://letheatredelachute.be/wp-content/uploads/2021/09/Visuel-provisoire-1.jpeg
END:VEVENT
BEGIN:VEVENT
DTSTART;TZID=Europe/Brussels:20211110T174500
DTEND;TZID=Europe/Brussels:20211110T190000
DTSTAMP:20260422T085600
CREATED:20211005T103558Z
LAST-MODIFIED:20211005T103821Z
UID:1372-1636566300-1636570800@letheatredelachute.be
SUMMARY:FUGUE
DESCRIPTION:Représentations au Studio du Petit Varia\nOuverture des portes avec Récits de ville en vidéo à 17h45 \nDébut de la représentation à 18h00 \n\nRESERVATION & BILLETTERIE\nT : 02 640 35 50 – reservation@varia.be
URL:https://letheatredelachute.be/spectacle/fugue-3/
LOCATION:Petit Varia\, Rue Gray 154\, Ixelles\, 1050\, Belgique
CATEGORIES:fugue,Tous les spectacles
ATTACH;FMTTYPE=image/jpeg:https://letheatredelachute.be/wp-content/uploads/2021/09/Visuel-provisoire-1.jpeg
END:VEVENT
BEGIN:VEVENT
DTSTART;TZID=Europe/Brussels:20211111T174500
DTEND;TZID=Europe/Brussels:20211111T190000
DTSTAMP:20260422T085600
CREATED:20211005T103558Z
LAST-MODIFIED:20211005T103856Z
UID:1374-1636652700-1636657200@letheatredelachute.be
SUMMARY:FUGUE
DESCRIPTION:Représentations au Studio du Petit Varia\nOuverture des portes avec Récits de ville en vidéo à 17h45 \nDébut de la représentation à 18h00 \n\nRESERVATION & BILLETTERIE\nT : 02 640 35 50 – reservation@varia.be
URL:https://letheatredelachute.be/spectacle/fugue-4/
LOCATION:Petit Varia\, Rue Gray 154\, Ixelles\, 1050\, Belgique
CATEGORIES:fugue,Tous les spectacles
ATTACH;FMTTYPE=image/jpeg:https://letheatredelachute.be/wp-content/uploads/2021/09/Visuel-provisoire-1.jpeg
END:VEVENT
BEGIN:VEVENT
DTSTART;TZID=Europe/Brussels:20211112T174500
DTEND;TZID=Europe/Brussels:20211112T190000
DTSTAMP:20260422T085600
CREATED:20211005T103558Z
LAST-MODIFIED:20211005T103952Z
UID:1376-1636739100-1636743600@letheatredelachute.be
SUMMARY:FUGUE
DESCRIPTION:Représentations au Studio du Petit Varia\nOuverture des portes avec Récits de ville en vidéo à 17h45 \nDébut de la représentation à 18h00 \n\nRESERVATION & BILLETTERIE\nT : 02 640 35 50 – reservation@varia.be
URL:https://letheatredelachute.be/spectacle/fugue-5/
LOCATION:Petit Varia\, Rue Gray 154\, Ixelles\, 1050\, Belgique
CATEGORIES:fugue,Tous les spectacles
ATTACH;FMTTYPE=image/jpeg:https://letheatredelachute.be/wp-content/uploads/2021/09/Visuel-provisoire-1.jpeg
END:VEVENT
BEGIN:VEVENT
DTSTART;TZID=Europe/Brussels:20211113T174500
DTEND;TZID=Europe/Brussels:20211113T190000
DTSTAMP:20260422T085600
CREATED:20211005T103558Z
LAST-MODIFIED:20211005T104248Z
UID:1378-1636825500-1636830000@letheatredelachute.be
SUMMARY:FUGUE
DESCRIPTION:Représentations au Studio du Petit Varia\nOuverture des portes avec Récits de ville en vidéo à 17h45 \nDébut de la représentation à 18h00 \n\nRESERVATION & BILLETTERIE\nT : 02 640 35 50 – reservation@varia.be
URL:https://letheatredelachute.be/spectacle/fugue-6/
LOCATION:Petit Varia\, Rue Gray 154\, Ixelles\, 1050\, Belgique
CATEGORIES:fugue,Tous les spectacles
ATTACH;FMTTYPE=image/jpeg:https://letheatredelachute.be/wp-content/uploads/2021/09/Visuel-provisoire-1.jpeg
END:VEVENT
BEGIN:VEVENT
DTSTART;TZID=Europe/Brussels:20211115T200000
DTEND;TZID=Europe/Brussels:20211115T213000
DTSTAMP:20260422T085600
CREATED:20190920T144513Z
LAST-MODIFIED:20210913T113909Z
UID:1320-1637006400-1637011800@letheatredelachute.be
SUMMARY:Un fils de notre temps
DESCRIPTION:Eden – Charleroi \nCentre Culturel de Charleroi \nBoulevard Jacques Bertrand\, 1-3 \nB-6000 Charleroi \nRÉSERVATION\nPar mail: info@eden-charleroi.be\nOu par téléphone: 071/202 995 \nBilletterie en ligne: https://shop.utick.be/\nL’accueil est ouvert: \ndu lundi au vendredi de 11:00 à 17:00\net une heure avant chaque activité.
URL:https://letheatredelachute.be/spectacle/un-fils-de-notre-temps-20/
LOCATION:Eden-Charleroi\, Boulevard Jacques Bertrand\, 1-3\, Charleroi\, 6000\, Belgique
CATEGORIES:Tous les spectacles,Un fils de notre temps
ATTACH;FMTTYPE=image/jpeg:https://letheatredelachute.be/wp-content/uploads/2019/09/Fils-de-notre-temps-1.jpg
END:VEVENT
BEGIN:VEVENT
DTSTART;TZID=Europe/Brussels:20211116T133000
DTEND;TZID=Europe/Brussels:20211116T143000
DTSTAMP:20260422T085600
CREATED:20190920T144513Z
LAST-MODIFIED:20211006T113200Z
UID:1391-1637069400-1637073000@letheatredelachute.be
SUMMARY:Un fils de notre temps
DESCRIPTION:Eden – Charleroi \nCentre Culturel de Charleroi \nBoulevard Jacques Bertrand\, 1-3 \nB-6000 Charleroi \nRÉSERVATION\nPar mail: info@eden-charleroi.be\nOu par téléphone: 071/202 995 \nBilletterie en ligne: https://shop.utick.be/\nL’accueil est ouvert: \ndu lundi au vendredi de 11:00 à 17:00\net une heure avant chaque activité.
URL:https://letheatredelachute.be/spectacle/un-fils-de-notre-temps-27/
LOCATION:Eden-Charleroi\, Boulevard Jacques Bertrand\, 1-3\, Charleroi\, 6000\, Belgique
CATEGORIES:scolaire,Tous les spectacles,Un fils de notre temps
ATTACH;FMTTYPE=image/jpeg:https://letheatredelachute.be/wp-content/uploads/2019/09/Fils-de-notre-temps-1.jpg
END:VEVENT
BEGIN:VEVENT
DTSTART;TZID=Europe/Brussels:20211116T200000
DTEND;TZID=Europe/Brussels:20211116T213000
DTSTAMP:20260422T085600
CREATED:20190920T144513Z
LAST-MODIFIED:20210913T113944Z
UID:1322-1637092800-1637098200@letheatredelachute.be
SUMMARY:Un fils de notre temps
DESCRIPTION:Eden – Charleroi \nCentre Culturel de Charleroi \nBoulevard Jacques Bertrand\, 1-3 \nB-6000 Charleroi \nRÉSERVATION\nPar mail: info@eden-charleroi.be\nOu par téléphone: 071/202 995 \nBilletterie en ligne: https://shop.utick.be/\nL’accueil est ouvert: \ndu lundi au vendredi de 11:00 à 17:00\net une heure avant chaque activité.
URL:https://letheatredelachute.be/spectacle/un-fils-de-notre-temps-21/
LOCATION:Eden-Charleroi\, Boulevard Jacques Bertrand\, 1-3\, Charleroi\, 6000\, Belgique
CATEGORIES:Tous les spectacles,Un fils de notre temps
ATTACH;FMTTYPE=image/jpeg:https://letheatredelachute.be/wp-content/uploads/2019/09/Fils-de-notre-temps-1.jpg
END:VEVENT
BEGIN:VEVENT
DTSTART;TZID=Europe/Brussels:20211117T200000
DTEND;TZID=Europe/Brussels:20211117T213000
DTSTAMP:20260422T085600
CREATED:20190920T144513Z
LAST-MODIFIED:20210913T114037Z
UID:1324-1637179200-1637184600@letheatredelachute.be
SUMMARY:Un fils de notre temps
DESCRIPTION:Eden – Charleroi \nCentre Culturel de Charleroi \nBoulevard Jacques Bertrand\, 1-3 \nB-6000 Charleroi \nRÉSERVATION\nPar mail: info@eden-charleroi.be\nOu par téléphone: 071/202 995 \nBilletterie en ligne: https://shop.utick.be/\nL’accueil est ouvert: \ndu lundi au vendredi de 11:00 à 17:00\net une heure avant chaque activité.
URL:https://letheatredelachute.be/spectacle/un-fils-de-notre-temps-22/
LOCATION:Eden-Charleroi\, Boulevard Jacques Bertrand\, 1-3\, Charleroi\, 6000\, Belgique
CATEGORIES:Tous les spectacles,Un fils de notre temps
ATTACH;FMTTYPE=image/jpeg:https://letheatredelachute.be/wp-content/uploads/2019/09/Fils-de-notre-temps-1.jpg
END:VEVENT
BEGIN:VEVENT
DTSTART;TZID=Europe/Brussels:20211118T133000
DTEND;TZID=Europe/Brussels:20211118T150000
DTSTAMP:20260422T085600
CREATED:20190920T144513Z
LAST-MODIFIED:20211006T113116Z
UID:1389-1637242200-1637247600@letheatredelachute.be
SUMMARY:Un fils de notre temps
DESCRIPTION:Eden – Charleroi \nCentre Culturel de Charleroi \nBoulevard Jacques Bertrand\, 1-3 \nB-6000 Charleroi \nRÉSERVATION\nPar mail: info@eden-charleroi.be\nOu par téléphone: 071/202 995 \nBilletterie en ligne: https://shop.utick.be/\nL’accueil est ouvert: \ndu lundi au vendredi de 11:00 à 17:00\net une heure avant chaque activité.
URL:https://letheatredelachute.be/spectacle/un-fils-de-notre-temps-26/
LOCATION:Eden-Charleroi\, Boulevard Jacques Bertrand\, 1-3\, Charleroi\, 6000\, Belgique
CATEGORIES:scolaire,Tous les spectacles,Un fils de notre temps
ATTACH;FMTTYPE=image/jpeg:https://letheatredelachute.be/wp-content/uploads/2019/09/Fils-de-notre-temps-1.jpg
END:VEVENT
BEGIN:VEVENT
DTSTART;TZID=Europe/Brussels:20211118T200000
DTEND;TZID=Europe/Brussels:20211118T213000
DTSTAMP:20260422T085600
CREATED:20190920T144513Z
LAST-MODIFIED:20210913T114107Z
UID:1326-1637265600-1637271000@letheatredelachute.be
SUMMARY:Un fils de notre temps
DESCRIPTION:Eden – Charleroi \nCentre Culturel de Charleroi \nBoulevard Jacques Bertrand\, 1-3 \nB-6000 Charleroi \nRÉSERVATION\nPar mail: info@eden-charleroi.be\nOu par téléphone: 071/202 995 \nBilletterie en ligne: https://shop.utick.be/\nL’accueil est ouvert: \ndu lundi au vendredi de 11:00 à 17:00\net une heure avant chaque activité.
URL:https://letheatredelachute.be/spectacle/un-fils-de-notre-temps-23/
LOCATION:Eden-Charleroi\, Boulevard Jacques Bertrand\, 1-3\, Charleroi\, 6000\, Belgique
CATEGORIES:Tous les spectacles,Un fils de notre temps
ATTACH;FMTTYPE=image/jpeg:https://letheatredelachute.be/wp-content/uploads/2019/09/Fils-de-notre-temps-1.jpg
END:VEVENT
BEGIN:VEVENT
DTSTART;TZID=Europe/Brussels:20211125T200000
DTEND;TZID=Europe/Brussels:20211125T213000
DTSTAMP:20260422T085600
CREATED:20190920T144513Z
LAST-MODIFIED:20210913T114622Z
UID:1328-1637870400-1637875800@letheatredelachute.be
SUMMARY:Un fils de notre temps
DESCRIPTION:Espace Bernier Centre Culturel de Waterloo \n\n\n\nAdresse : Rue François Libert 26\, 1410 Waterloo\n\n\n\n\n\n\n\nTéléphone : 02 354 47 66\n\n\n\nRÉSERVATION\nBilletterie CC Waterloo\nppringalle@centre-culturel-waterloo.be – 02 354 47 66
URL:https://letheatredelachute.be/spectacle/un-fils-de-notre-temps-24/
LOCATION:Centre culturel de Waterloo\, Rue François Libert\, 28\, Waterloo\, 1410\, Belgique
CATEGORIES:Tous les spectacles,Un fils de notre temps
ATTACH;FMTTYPE=image/jpeg:https://letheatredelachute.be/wp-content/uploads/2019/09/Fils-de-notre-temps-1.jpg
END:VEVENT
BEGIN:VEVENT
DTSTART;TZID=Europe/Brussels:20211126T140000
DTEND;TZID=Europe/Brussels:20211126T153000
DTSTAMP:20260422T085600
CREATED:20190920T144513Z
LAST-MODIFIED:20211021T133917Z
UID:1393-1637935200-1637940600@letheatredelachute.be
SUMMARY:Un fils de notre temps
DESCRIPTION:Espace Bernier Centre Culturel de Waterloo \n\n\n\nAdresse : Rue François Libert 26\, 1410 Waterloo\n\n\n\n\n\n\n\nTéléphone : 02 354 47 66\n\n\n\nRÉSERVATION\nBilletterie CC Waterloo\nppringalle@centre-culturel-waterloo.be – 02 354 47 66
URL:https://letheatredelachute.be/spectacle/un-fils-de-notre-temps-28/
LOCATION:Centre culturel de Waterloo\, Rue François Libert\, 28\, Waterloo\, 1410\, Belgique
CATEGORIES:scolaire,Tous les spectacles,Un fils de notre temps
ATTACH;FMTTYPE=image/jpeg:https://letheatredelachute.be/wp-content/uploads/2019/09/Fils-de-notre-temps-1.jpg
END:VEVENT
END:VCALENDAR