BEGIN:VCALENDAR
VERSION:2.0
PRODID:-//Le théâtre de la Chute - ECPv6.15.20//NONSGML v1.0//EN
CALSCALE:GREGORIAN
METHOD:PUBLISH
X-ORIGINAL-URL:https://letheatredelachute.be
X-WR-CALDESC:évènements pour Le théâtre de la Chute
REFRESH-INTERVAL;VALUE=DURATION:PT1H
X-Robots-Tag:noindex
X-PUBLISHED-TTL:PT1H
BEGIN:VTIMEZONE
TZID:Europe/Brussels
BEGIN:DAYLIGHT
TZOFFSETFROM:+0100
TZOFFSETTO:+0200
TZNAME:CEST
DTSTART:20190331T010000
END:DAYLIGHT
BEGIN:STANDARD
TZOFFSETFROM:+0200
TZOFFSETTO:+0100
TZNAME:CET
DTSTART:20191027T010000
END:STANDARD
BEGIN:DAYLIGHT
TZOFFSETFROM:+0100
TZOFFSETTO:+0200
TZNAME:CEST
DTSTART:20200329T010000
END:DAYLIGHT
BEGIN:STANDARD
TZOFFSETFROM:+0200
TZOFFSETTO:+0100
TZNAME:CET
DTSTART:20201025T010000
END:STANDARD
BEGIN:DAYLIGHT
TZOFFSETFROM:+0100
TZOFFSETTO:+0200
TZNAME:CEST
DTSTART:20210328T010000
END:DAYLIGHT
BEGIN:STANDARD
TZOFFSETFROM:+0200
TZOFFSETTO:+0100
TZNAME:CET
DTSTART:20211031T010000
END:STANDARD
END:VTIMEZONE
BEGIN:VEVENT
DTSTART;TZID=Europe/Brussels:20201204T203000
DTEND;TZID=Europe/Brussels:20201204T220000
DTSTAMP:20260423T002114
CREATED:20190920T144513Z
LAST-MODIFIED:20200411T094330Z
UID:1093-1607113800-1607119200@letheatredelachute.be
SUMMARY:Dom Juan
DESCRIPTION:Centre culturel d’Andenne \nEspace Michel Boujenah – Salle Polyvalente\nRue de la Papeterie\, 2A – 5300 Andenne \nRÉSERVATION\nBilletterie : 085/84.36.40 – Courriel: billetterie@centreculturelandenne.be  \nBilletterie ouverte  \nLe lundi de 13h à 17h30 et du mardi au vendredi de 8h30 à 12h et de 13h à 16h30. \nBilletterie en ligne accessible 24h/24
URL:https://letheatredelachute.be/spectacle/dom-juan/
LOCATION:Centre culturel d’Andenne\, Rue de la Papeterie\, 2A\, Andenne\, 5300\, Belgique
CATEGORIES:Dom Juan,Tous les spectacles
ATTACH;FMTTYPE=image/jpeg:https://letheatredelachute.be/wp-content/uploads/2019/10/Dom-Juan1©TDLC.jpg
END:VEVENT
END:VCALENDAR