BEGIN:VCALENDAR
VERSION:2.0
PRODID:-//Le théâtre de la Chute - ECPv6.15.20//NONSGML v1.0//EN
CALSCALE:GREGORIAN
METHOD:PUBLISH
X-WR-CALNAME:Le théâtre de la Chute
X-ORIGINAL-URL:https://letheatredelachute.be
X-WR-CALDESC:évènements pour Le théâtre de la Chute
REFRESH-INTERVAL;VALUE=DURATION:PT1H
X-Robots-Tag:noindex
X-PUBLISHED-TTL:PT1H
BEGIN:VTIMEZONE
TZID:Europe/Brussels
BEGIN:DAYLIGHT
TZOFFSETFROM:+0100
TZOFFSETTO:+0200
TZNAME:CEST
DTSTART:20190331T010000
END:DAYLIGHT
BEGIN:STANDARD
TZOFFSETFROM:+0200
TZOFFSETTO:+0100
TZNAME:CET
DTSTART:20191027T010000
END:STANDARD
BEGIN:DAYLIGHT
TZOFFSETFROM:+0100
TZOFFSETTO:+0200
TZNAME:CEST
DTSTART:20200329T010000
END:DAYLIGHT
BEGIN:STANDARD
TZOFFSETFROM:+0200
TZOFFSETTO:+0100
TZNAME:CET
DTSTART:20201025T010000
END:STANDARD
BEGIN:DAYLIGHT
TZOFFSETFROM:+0100
TZOFFSETTO:+0200
TZNAME:CEST
DTSTART:20210328T010000
END:DAYLIGHT
BEGIN:STANDARD
TZOFFSETFROM:+0200
TZOFFSETTO:+0100
TZNAME:CET
DTSTART:20211031T010000
END:STANDARD
END:VTIMEZONE
BEGIN:VEVENT
DTSTART;TZID=Europe/Brussels:20200218T134500
DTEND;TZID=Europe/Brussels:20200218T150000
DTSTAMP:20260423T131059
CREATED:20200107T100211Z
LAST-MODIFIED:20200731T162010Z
UID:1005-1582033500-1582038000@letheatredelachute.be
SUMMARY:Le théâtre de la Chute en prison: Volet OUT du projet IN/OUT
DESCRIPTION:Un projet théâtre original en prison\, mené de front par Benoit Verhaert et les comédiens de sa compagnie (le Théâtre de la Chute)\, autour de la pièce L’Étranger de Camus.
URL:https://letheatredelachute.be/spectacle/le-theatre-de-la-chute-en-prison-volet-out-du-projet-in-out-2/
LOCATION:Maison de la culture Famenne-Ardenne\, Chaussée de l'Ourthe 74\, Marche-en-Famenne\, 6900\, Belgique
CATEGORIES:en prison,in/out,l'étranger,Tous les spectacles
ATTACH;FMTTYPE=image/jpeg:https://letheatredelachute.be/wp-content/uploads/2019/10/8714195126_178f33f882_o.jpg
END:VEVENT
END:VCALENDAR