BEGIN:VCALENDAR
VERSION:2.0
PRODID:-//Le théâtre de la Chute - ECPv6.15.20//NONSGML v1.0//EN
CALSCALE:GREGORIAN
METHOD:PUBLISH
X-WR-CALNAME:Le théâtre de la Chute
X-ORIGINAL-URL:https://letheatredelachute.be
X-WR-CALDESC:évènements pour Le théâtre de la Chute
REFRESH-INTERVAL;VALUE=DURATION:PT1H
X-Robots-Tag:noindex
X-PUBLISHED-TTL:PT1H
BEGIN:VTIMEZONE
TZID:Europe/Brussels
BEGIN:DAYLIGHT
TZOFFSETFROM:+0100
TZOFFSETTO:+0200
TZNAME:CEST
DTSTART:20180325T010000
END:DAYLIGHT
BEGIN:STANDARD
TZOFFSETFROM:+0200
TZOFFSETTO:+0100
TZNAME:CET
DTSTART:20181028T010000
END:STANDARD
BEGIN:DAYLIGHT
TZOFFSETFROM:+0100
TZOFFSETTO:+0200
TZNAME:CEST
DTSTART:20190331T010000
END:DAYLIGHT
BEGIN:STANDARD
TZOFFSETFROM:+0200
TZOFFSETTO:+0100
TZNAME:CET
DTSTART:20191027T010000
END:STANDARD
BEGIN:DAYLIGHT
TZOFFSETFROM:+0100
TZOFFSETTO:+0200
TZNAME:CEST
DTSTART:20200329T010000
END:DAYLIGHT
BEGIN:STANDARD
TZOFFSETFROM:+0200
TZOFFSETTO:+0100
TZNAME:CET
DTSTART:20201025T010000
END:STANDARD
END:VTIMEZONE
BEGIN:VEVENT
DTSTART;TZID=Europe/Brussels:20191114T200000
DTEND;TZID=Europe/Brussels:20191114T200000
DTSTAMP:20260423T170242
CREATED:20190920T144513Z
LAST-MODIFIED:20190921T133143Z
UID:271-1573761600-1573761600@letheatredelachute.be
SUMMARY:Un fils de notre temps
DESCRIPTION:Petit Varia \nRÉSERVATION\n+32 2 640 35 50\nen ligne ou par e-mail\nDu mardi au vendredi de 13h à 19h.\nLes samedis de représentation\, de 16h à 19h.
URL:https://letheatredelachute.be/spectacle/un-fils-de-notre-temps/
LOCATION:Théatre Varia\, 78 rue du sceptre\, Bruxelles\, 1050\, Belgique
CATEGORIES:Tous les spectacles,Un fils de notre temps
ATTACH;FMTTYPE=image/jpeg:https://letheatredelachute.be/wp-content/uploads/2019/09/Fils-de-notre-temps-1.jpg
END:VEVENT
BEGIN:VEVENT
DTSTART;TZID=Europe/Brussels:20191115T200000
DTEND;TZID=Europe/Brussels:20191115T200000
DTSTAMP:20260423T170242
CREATED:20190920T144513Z
LAST-MODIFIED:20190921T133235Z
UID:284-1573848000-1573848000@letheatredelachute.be
SUMMARY:Un fils de notre temps
DESCRIPTION:Petit Varia \nRÉSERVATION\n+32 2 640 35 50\nen ligne ou par e-mail\nDu mardi au vendredi de 13h à 19h.\nLes samedis de représentation\, de 16h à 19h.
URL:https://letheatredelachute.be/spectacle/un-fils-de-notre-temps-2/
LOCATION:Théatre Varia\, 78 rue du sceptre\, Bruxelles\, 1050\, Belgique
CATEGORIES:Tous les spectacles,Un fils de notre temps
ATTACH;FMTTYPE=image/jpeg:https://letheatredelachute.be/wp-content/uploads/2019/09/Fils-de-notre-temps-1.jpg
END:VEVENT
BEGIN:VEVENT
DTSTART;TZID=Europe/Brussels:20191116T200000
DTEND;TZID=Europe/Brussels:20191116T200000
DTSTAMP:20260423T170242
CREATED:20190920T144513Z
LAST-MODIFIED:20190921T133259Z
UID:286-1573934400-1573934400@letheatredelachute.be
SUMMARY:Un fils de notre temps
DESCRIPTION:Petit Varia \nRÉSERVATION\n+32 2 640 35 50\nen ligne ou par e-mail\nDu mardi au vendredi de 13h à 19h.\nLes samedis de représentation\, de 16h à 19h.
URL:https://letheatredelachute.be/spectacle/un-fils-de-notre-temps-3/
LOCATION:Théatre Varia\, 78 rue du sceptre\, Bruxelles\, 1050\, Belgique
CATEGORIES:Tous les spectacles,Un fils de notre temps
ATTACH;FMTTYPE=image/jpeg:https://letheatredelachute.be/wp-content/uploads/2019/09/Fils-de-notre-temps-1.jpg
END:VEVENT
BEGIN:VEVENT
DTSTART;TZID=Europe/Brussels:20191119T200000
DTEND;TZID=Europe/Brussels:20191119T200000
DTSTAMP:20260423T170242
CREATED:20190920T144513Z
LAST-MODIFIED:20190921T133334Z
UID:288-1574193600-1574193600@letheatredelachute.be
SUMMARY:Un fils de notre temps
DESCRIPTION:Petit Varia \nRÉSERVATION\n+32 2 640 35 50\nen ligne ou par e-mail\nDu mardi au vendredi de 13h à 19h.\nLes samedis de représentation\, de 16h à 19h.
URL:https://letheatredelachute.be/spectacle/un-fils-de-notre-temps-4/
LOCATION:Théatre Varia\, 78 rue du sceptre\, Bruxelles\, 1050\, Belgique
CATEGORIES:Tous les spectacles,Un fils de notre temps
ATTACH;FMTTYPE=image/jpeg:https://letheatredelachute.be/wp-content/uploads/2019/09/Fils-de-notre-temps-1.jpg
END:VEVENT
BEGIN:VEVENT
DTSTART;TZID=Europe/Brussels:20191120T200000
DTEND;TZID=Europe/Brussels:20191120T200000
DTSTAMP:20260423T170242
CREATED:20190920T144513Z
LAST-MODIFIED:20190921T133547Z
UID:290-1574280000-1574280000@letheatredelachute.be
SUMMARY:Un fils de notre temps
DESCRIPTION:Petit Varia \nRÉSERVATION\n+32 2 640 35 50\nen ligne ou par e-mail\nDu mardi au vendredi de 13h à 19h.\nLes samedis de représentation\, de 16h à 19h.
URL:https://letheatredelachute.be/spectacle/un-fils-de-notre-temps-5/
LOCATION:Théatre Varia\, 78 rue du sceptre\, Bruxelles\, 1050\, Belgique
CATEGORIES:Tous les spectacles,Un fils de notre temps
ATTACH;FMTTYPE=image/jpeg:https://letheatredelachute.be/wp-content/uploads/2019/09/Fils-de-notre-temps-1.jpg
END:VEVENT
BEGIN:VEVENT
DTSTART;TZID=Europe/Brussels:20191121T133000
DTEND;TZID=Europe/Brussels:20191121T150000
DTSTAMP:20260423T170242
CREATED:20191023T092904Z
LAST-MODIFIED:20191023T092904Z
UID:824-1574343000-1574348400@letheatredelachute.be
SUMMARY:Un fils de notre temps - scolaire
DESCRIPTION:Représentation scolaire à 13h30 suivie d’un échange avec les élèves en présence de l’équipe artistique du spectacle
URL:https://letheatredelachute.be/spectacle/un-fils-de-notre-temps-scolaire/
LOCATION:Théatre Varia\, 78 rue du sceptre\, Bruxelles\, 1050\, Belgique
CATEGORIES:scolaire
END:VEVENT
BEGIN:VEVENT
DTSTART;TZID=Europe/Brussels:20191121T200000
DTEND;TZID=Europe/Brussels:20191121T200000
DTSTAMP:20260423T170242
CREATED:20190920T144513Z
LAST-MODIFIED:20190921T133613Z
UID:292-1574366400-1574366400@letheatredelachute.be
SUMMARY:Un fils de notre temps
DESCRIPTION:Petit Varia \nRÉSERVATION\n+32 2 640 35 50\nen ligne ou par e-mail\nDu mardi au vendredi de 13h à 19h.\nLes samedis de représentation\, de 16h à 19h.
URL:https://letheatredelachute.be/spectacle/un-fils-de-notre-temps-6/
LOCATION:Théatre Varia\, 78 rue du sceptre\, Bruxelles\, 1050\, Belgique
CATEGORIES:Tous les spectacles,Un fils de notre temps
ATTACH;FMTTYPE=image/jpeg:https://letheatredelachute.be/wp-content/uploads/2019/09/Fils-de-notre-temps-1.jpg
END:VEVENT
BEGIN:VEVENT
DTSTART;TZID=Europe/Brussels:20191122T133000
DTEND;TZID=Europe/Brussels:20191122T150000
DTSTAMP:20260423T170242
CREATED:20191023T093014Z
LAST-MODIFIED:20191023T093424Z
UID:827-1574429400-1574434800@letheatredelachute.be
SUMMARY:Un fils de notre temps - Scolaire
DESCRIPTION:Représentation scolaire à 13h30 suivie d’un échange avec les élèves en présence de l’équipe artistique du spectacle
URL:https://letheatredelachute.be/spectacle/un-fils-de-notre-temps-scolaire-2/
LOCATION:Théatre Varia\, 78 rue du sceptre\, Bruxelles\, 1050\, Belgique
CATEGORIES:scolaire
END:VEVENT
BEGIN:VEVENT
DTSTART;TZID=Europe/Brussels:20191122T200000
DTEND;TZID=Europe/Brussels:20191122T200000
DTSTAMP:20260423T170242
CREATED:20190920T144513Z
LAST-MODIFIED:20190921T133637Z
UID:294-1574452800-1574452800@letheatredelachute.be
SUMMARY:Un fils de notre temps
DESCRIPTION:Petit Varia \nRÉSERVATION\n+32 2 640 35 50\nen ligne ou par e-mail\nDu mardi au vendredi de 13h à 19h.\nLes samedis de représentation\, de 16h à 19h.
URL:https://letheatredelachute.be/spectacle/un-fils-de-notre-temps-7/
LOCATION:Théatre Varia\, 78 rue du sceptre\, Bruxelles\, 1050\, Belgique
CATEGORIES:Tous les spectacles,Un fils de notre temps
ATTACH;FMTTYPE=image/jpeg:https://letheatredelachute.be/wp-content/uploads/2019/09/Fils-de-notre-temps-1.jpg
END:VEVENT
BEGIN:VEVENT
DTSTART;TZID=Europe/Brussels:20191123T200000
DTEND;TZID=Europe/Brussels:20191123T200000
DTSTAMP:20260423T170242
CREATED:20190920T144513Z
LAST-MODIFIED:20190921T133657Z
UID:296-1574539200-1574539200@letheatredelachute.be
SUMMARY:Un fils de notre temps
DESCRIPTION:Petit Varia \nRÉSERVATION\n+32 2 640 35 50\nen ligne ou par e-mail\nDu mardi au vendredi de 13h à 19h.\nLes samedis de représentation\, de 16h à 19h.
URL:https://letheatredelachute.be/spectacle/un-fils-de-notre-temps-8/
LOCATION:Théatre Varia\, 78 rue du sceptre\, Bruxelles\, 1050\, Belgique
CATEGORIES:Tous les spectacles,Un fils de notre temps
ATTACH;FMTTYPE=image/jpeg:https://letheatredelachute.be/wp-content/uploads/2019/09/Fils-de-notre-temps-1.jpg
END:VEVENT
BEGIN:VEVENT
DTSTART;TZID=Europe/Brussels:20191126T200000
DTEND;TZID=Europe/Brussels:20191126T200000
DTSTAMP:20260423T170242
CREATED:20190920T144513Z
LAST-MODIFIED:20190921T133721Z
UID:298-1574798400-1574798400@letheatredelachute.be
SUMMARY:Un fils de notre temps
DESCRIPTION:Petit Varia \nRÉSERVATION\n+32 2 640 35 50\nen ligne ou par e-mail\nDu mardi au vendredi de 13h à 19h.\nLes samedis de représentation\, de 16h à 19h.
URL:https://letheatredelachute.be/spectacle/un-fils-de-notre-temps-9/
LOCATION:Théatre Varia\, 78 rue du sceptre\, Bruxelles\, 1050\, Belgique
CATEGORIES:Tous les spectacles,Un fils de notre temps
ATTACH;FMTTYPE=image/jpeg:https://letheatredelachute.be/wp-content/uploads/2019/09/Fils-de-notre-temps-1.jpg
END:VEVENT
BEGIN:VEVENT
DTSTART;TZID=Europe/Brussels:20191127T200000
DTEND;TZID=Europe/Brussels:20191127T200000
DTSTAMP:20260423T170242
CREATED:20190920T144513Z
LAST-MODIFIED:20190921T133742Z
UID:300-1574884800-1574884800@letheatredelachute.be
SUMMARY:Un fils de notre temps
DESCRIPTION:Petit Varia \nRÉSERVATION\n+32 2 640 35 50\nen ligne ou par e-mail\nDu mardi au vendredi de 13h à 19h.\nLes samedis de représentation\, de 16h à 19h.
URL:https://letheatredelachute.be/spectacle/un-fils-de-notre-temps-10/
LOCATION:Théatre Varia\, 78 rue du sceptre\, Bruxelles\, 1050\, Belgique
CATEGORIES:Tous les spectacles,Un fils de notre temps
ATTACH;FMTTYPE=image/jpeg:https://letheatredelachute.be/wp-content/uploads/2019/09/Fils-de-notre-temps-1.jpg
END:VEVENT
BEGIN:VEVENT
DTSTART;TZID=Europe/Brussels:20191128T133000
DTEND;TZID=Europe/Brussels:20191128T150000
DTSTAMP:20260423T170242
CREATED:20191023T093133Z
LAST-MODIFIED:20191023T093138Z
UID:829-1574947800-1574953200@letheatredelachute.be
SUMMARY:Un fils de notre temps - Scolaire
DESCRIPTION:Représentation à 13h30\, suivie d’un échange avec les élèves en présence de l’équipe artistique du spectacle
URL:https://letheatredelachute.be/spectacle/un-fils-de-notre-temps-scolaire-3/
LOCATION:Théatre Varia\, 78 rue du sceptre\, Bruxelles\, 1050\, Belgique
CATEGORIES:scolaire
END:VEVENT
BEGIN:VEVENT
DTSTART;TZID=Europe/Brussels:20191128T200000
DTEND;TZID=Europe/Brussels:20191128T200000
DTSTAMP:20260423T170242
CREATED:20190920T144513Z
LAST-MODIFIED:20190921T133759Z
UID:302-1574971200-1574971200@letheatredelachute.be
SUMMARY:Un fils de notre temps
DESCRIPTION:Petit Varia \nRÉSERVATION\n+32 2 640 35 50\nen ligne ou par e-mail\nDu mardi au vendredi de 13h à 19h.\nLes samedis de représentation\, de 16h à 19h.
URL:https://letheatredelachute.be/spectacle/un-fils-de-notre-temps-11/
LOCATION:Théatre Varia\, 78 rue du sceptre\, Bruxelles\, 1050\, Belgique
CATEGORIES:Tous les spectacles,Un fils de notre temps
ATTACH;FMTTYPE=image/jpeg:https://letheatredelachute.be/wp-content/uploads/2019/09/Fils-de-notre-temps-1.jpg
END:VEVENT
BEGIN:VEVENT
DTSTART;TZID=Europe/Brussels:20191129T133000
DTEND;TZID=Europe/Brussels:20191129T150000
DTSTAMP:20260423T170242
CREATED:20191023T093239Z
LAST-MODIFIED:20191023T093243Z
UID:831-1575034200-1575039600@letheatredelachute.be
SUMMARY:Un fils de notre temps - Scolaire
DESCRIPTION:Représentation à 13h30\, suivie d’un échange avec les élèves en présence de l’équipe artistique du spectacle
URL:https://letheatredelachute.be/spectacle/un-fils-de-notre-temps-scolaire-4/
LOCATION:Théatre Varia\, 78 rue du sceptre\, Bruxelles\, 1050\, Belgique
CATEGORIES:scolaire
END:VEVENT
BEGIN:VEVENT
DTSTART;TZID=Europe/Brussels:20191129T200000
DTEND;TZID=Europe/Brussels:20191129T200000
DTSTAMP:20260423T170242
CREATED:20190920T144513Z
LAST-MODIFIED:20190921T133818Z
UID:304-1575057600-1575057600@letheatredelachute.be
SUMMARY:Un fils de notre temps
DESCRIPTION:Petit Varia \nRÉSERVATION\n+32 2 640 35 50\nen ligne ou par e-mail\nDu mardi au vendredi de 13h à 19h.\nLes samedis de représentation\, de 16h à 19h.
URL:https://letheatredelachute.be/spectacle/un-fils-de-notre-temps-12/
LOCATION:Théatre Varia\, 78 rue du sceptre\, Bruxelles\, 1050\, Belgique
CATEGORIES:Tous les spectacles,Un fils de notre temps
ATTACH;FMTTYPE=image/jpeg:https://letheatredelachute.be/wp-content/uploads/2019/09/Fils-de-notre-temps-1.jpg
END:VEVENT
BEGIN:VEVENT
DTSTART;TZID=Europe/Brussels:20191130T200000
DTEND;TZID=Europe/Brussels:20191130T200000
DTSTAMP:20260423T170242
CREATED:20190920T144513Z
LAST-MODIFIED:20190921T133836Z
UID:306-1575144000-1575144000@letheatredelachute.be
SUMMARY:Un fils de notre temps
DESCRIPTION:Petit Varia \nRÉSERVATION\n+32 2 640 35 50\nen ligne ou par e-mail\nDu mardi au vendredi de 13h à 19h.\nLes samedis de représentation\, de 16h à 19h.
URL:https://letheatredelachute.be/spectacle/un-fils-de-notre-temps-13/
LOCATION:Théatre Varia\, 78 rue du sceptre\, Bruxelles\, 1050\, Belgique
CATEGORIES:Tous les spectacles,Un fils de notre temps
ATTACH;FMTTYPE=image/jpeg:https://letheatredelachute.be/wp-content/uploads/2019/09/Fils-de-notre-temps-1.jpg
END:VEVENT
END:VCALENDAR