BEGIN:VCALENDAR
VERSION:2.0
PRODID:-//Le théâtre de la Chute - ECPv6.15.20//NONSGML v1.0//EN
CALSCALE:GREGORIAN
METHOD:PUBLISH
X-ORIGINAL-URL:https://letheatredelachute.be
X-WR-CALDESC:évènements pour Le théâtre de la Chute
REFRESH-INTERVAL;VALUE=DURATION:PT1H
X-Robots-Tag:noindex
X-PUBLISHED-TTL:PT1H
BEGIN:VTIMEZONE
TZID:Europe/Brussels
BEGIN:DAYLIGHT
TZOFFSETFROM:+0100
TZOFFSETTO:+0200
TZNAME:CEST
DTSTART:20190331T010000
END:DAYLIGHT
BEGIN:STANDARD
TZOFFSETFROM:+0200
TZOFFSETTO:+0100
TZNAME:CET
DTSTART:20191027T010000
END:STANDARD
BEGIN:DAYLIGHT
TZOFFSETFROM:+0100
TZOFFSETTO:+0200
TZNAME:CEST
DTSTART:20200329T010000
END:DAYLIGHT
BEGIN:STANDARD
TZOFFSETFROM:+0200
TZOFFSETTO:+0100
TZNAME:CET
DTSTART:20201025T010000
END:STANDARD
BEGIN:DAYLIGHT
TZOFFSETFROM:+0100
TZOFFSETTO:+0200
TZNAME:CEST
DTSTART:20210328T010000
END:DAYLIGHT
BEGIN:STANDARD
TZOFFSETFROM:+0200
TZOFFSETTO:+0100
TZNAME:CET
DTSTART:20211031T010000
END:STANDARD
END:VTIMEZONE
BEGIN:VEVENT
DTSTART;TZID=Europe/Brussels:20201026T200000
DTEND;TZID=Europe/Brussels:20201026T200000
DTSTAMP:20260423T021208
CREATED:20190920T144513Z
LAST-MODIFIED:20200411T095652Z
UID:1079-1603742400-1603742400@letheatredelachute.be
SUMMARY:Un fils de notre temps
DESCRIPTION:Eden – Charleroi \nCentre Culturel de Charleroi \nBoulevard Jacques Bertrand\, 1-3 \nB-6000 Charleroi \nRÉSERVATION\nPar mail: info@eden-charleroi.be\nOu par téléphone: 071/202 995 \nBilletterie en ligne: https://shop.utick.be/\nL’accueil est ouvert: \ndu lundi au vendredi de 11:00 à 17:00\net une heure avant chaque activité.
URL:https://letheatredelachute.be/spectacle/un-fils-de-notre-temps-14/
LOCATION:Eden-Charleroi\, Boulevard Jacques Bertrand\, 1-3\, Charleroi\, 6000\, Belgique
CATEGORIES:Tous les spectacles,Un fils de notre temps
ATTACH;FMTTYPE=image/jpeg:https://letheatredelachute.be/wp-content/uploads/2019/09/Fils-de-notre-temps-1.jpg
END:VEVENT
BEGIN:VEVENT
DTSTART;TZID=Europe/Brussels:20201027T200000
DTEND;TZID=Europe/Brussels:20201027T200000
DTSTAMP:20260423T021208
CREATED:20190920T144513Z
LAST-MODIFIED:20200411T095626Z
UID:1082-1603828800-1603828800@letheatredelachute.be
SUMMARY:Un fils de notre temps
DESCRIPTION:Eden – Charleroi \nCentre Culturel de Charleroi \nBoulevard Jacques Bertrand\, 1-3 \nB-6000 Charleroi \nRÉSERVATION\nPar mail: info@eden-charleroi.be\nOu par téléphone: 071/202 995 \nBilletterie en ligne: https://shop.utick.be/\nL’accueil est ouvert: \ndu lundi au vendredi de 11:00 à 17:00\net une heure avant chaque activité.
URL:https://letheatredelachute.be/spectacle/un-fils-de-notre-temps-15/
LOCATION:Eden-Charleroi\, Boulevard Jacques Bertrand\, 1-3\, Charleroi\, 6000\, Belgique
CATEGORIES:Tous les spectacles,Un fils de notre temps
ATTACH;FMTTYPE=image/jpeg:https://letheatredelachute.be/wp-content/uploads/2019/09/Fils-de-notre-temps-1.jpg
END:VEVENT
BEGIN:VEVENT
DTSTART;TZID=Europe/Brussels:20201028T200000
DTEND;TZID=Europe/Brussels:20201028T200000
DTSTAMP:20260423T021208
CREATED:20190920T144513Z
LAST-MODIFIED:20200411T095604Z
UID:1084-1603915200-1603915200@letheatredelachute.be
SUMMARY:Un fils de notre temps
DESCRIPTION:Eden – Charleroi \nCentre Culturel de Charleroi \nBoulevard Jacques Bertrand\, 1-3 \nB-6000 Charleroi \nRÉSERVATION\nPar mail: info@eden-charleroi.be\nOu par téléphone: 071/202 995 \nBilletterie en ligne: https://shop.utick.be/\nL’accueil est ouvert: \ndu lundi au vendredi de 11:00 à 17:00\net une heure avant chaque activité.
URL:https://letheatredelachute.be/spectacle/un-fils-de-notre-temps-16/
LOCATION:Eden-Charleroi\, Boulevard Jacques Bertrand\, 1-3\, Charleroi\, 6000\, Belgique
CATEGORIES:Tous les spectacles,Un fils de notre temps
ATTACH;FMTTYPE=image/jpeg:https://letheatredelachute.be/wp-content/uploads/2019/09/Fils-de-notre-temps-1.jpg
END:VEVENT
BEGIN:VEVENT
DTSTART;TZID=Europe/Brussels:20201029T200000
DTEND;TZID=Europe/Brussels:20201029T213000
DTSTAMP:20260423T021208
CREATED:20190920T144513Z
LAST-MODIFIED:20200411T095528Z
UID:1086-1604001600-1604007000@letheatredelachute.be
SUMMARY:Un fils de notre temps
DESCRIPTION:Eden – Charleroi \nCentre Culturel de Charleroi \nBoulevard Jacques Bertrand\, 1-3 \nB-6000 Charleroi \nRÉSERVATION\nPar mail: info@eden-charleroi.be\nOu par téléphone: 071/202 995 \nBilletterie en ligne: https://shop.utick.be/\nL’accueil est ouvert: \ndu lundi au vendredi de 11:00 à 17:00\net une heure avant chaque activité.
URL:https://letheatredelachute.be/spectacle/un-fils-de-notre-temps-17/
LOCATION:Eden-Charleroi\, Boulevard Jacques Bertrand\, 1-3\, Charleroi\, 6000\, Belgique
CATEGORIES:Tous les spectacles,Un fils de notre temps
ATTACH;FMTTYPE=image/jpeg:https://letheatredelachute.be/wp-content/uploads/2019/09/Fils-de-notre-temps-1.jpg
END:VEVENT
END:VCALENDAR