BEGIN:VCALENDAR
VERSION:2.0
PRODID:-//Le théâtre de la Chute - ECPv6.15.20//NONSGML v1.0//EN
CALSCALE:GREGORIAN
METHOD:PUBLISH
X-WR-CALNAME:Le théâtre de la Chute
X-ORIGINAL-URL:https://letheatredelachute.be
X-WR-CALDESC:évènements pour Le théâtre de la Chute
REFRESH-INTERVAL;VALUE=DURATION:PT1H
X-Robots-Tag:noindex
X-PUBLISHED-TTL:PT1H
BEGIN:VTIMEZONE
TZID:Europe/Brussels
BEGIN:DAYLIGHT
TZOFFSETFROM:+0100
TZOFFSETTO:+0200
TZNAME:CEST
DTSTART:20240331T010000
END:DAYLIGHT
BEGIN:STANDARD
TZOFFSETFROM:+0200
TZOFFSETTO:+0100
TZNAME:CET
DTSTART:20241027T010000
END:STANDARD
BEGIN:DAYLIGHT
TZOFFSETFROM:+0100
TZOFFSETTO:+0200
TZNAME:CEST
DTSTART:20250330T010000
END:DAYLIGHT
BEGIN:STANDARD
TZOFFSETFROM:+0200
TZOFFSETTO:+0100
TZNAME:CET
DTSTART:20251026T010000
END:STANDARD
BEGIN:DAYLIGHT
TZOFFSETFROM:+0100
TZOFFSETTO:+0200
TZNAME:CEST
DTSTART:20260329T010000
END:DAYLIGHT
BEGIN:STANDARD
TZOFFSETFROM:+0200
TZOFFSETTO:+0100
TZNAME:CET
DTSTART:20261025T010000
END:STANDARD
END:VTIMEZONE
BEGIN:VEVENT
DTSTART;TZID=Europe/Brussels:20250815T201500
DTEND;TZID=Europe/Brussels:20250815T213000
DTSTAMP:20260420T075527
CREATED:20230612T101954Z
LAST-MODIFIED:20250711T155956Z
UID:2230-1755288900-1755293400@letheatredelachute.be
SUMMARY:Antigone vs Créon
DESCRIPTION:Deuxième volet du Fatal Diptyque \nCe deuxième épisode est une création originale de Benoît Verhaert inspirée des Antigones à travers le temps. \nCREATION 2024 \nInfo: letheatredelachute@gmail.com
URL:https://letheatredelachute.be/spectacle/antigone-vs-creon-26/
LOCATION:Festival Théâtres Nomades\, Bois de la Cambre\, Ixelles\, 1050\, Belgique
CATEGORIES:Antigone vs Créon,Tous les spectacles
ATTACH;FMTTYPE=image/jpeg:https://letheatredelachute.be/wp-content/uploads/2024/09/Antigone-vs-Creon.jpeg
END:VEVENT
BEGIN:VEVENT
DTSTART;TZID=Europe/Brussels:20250816T190000
DTEND;TZID=Europe/Brussels:20250816T203000
DTSTAMP:20260420T075527
CREATED:20230612T101954Z
LAST-MODIFIED:20250711T160350Z
UID:2232-1755370800-1755376200@letheatredelachute.be
SUMMARY:Antigone vs Créon
DESCRIPTION:Deuxième volet du Fatal Diptyque \nCe deuxième épisode est une création originale de Benoît Verhaert inspirée des Antigones à travers le temps. \nCREATION 2024 \nInfo: letheatredelachute@gmail.com
URL:https://letheatredelachute.be/spectacle/antigone-vs-creon-27/
LOCATION:Les Estivales\, Mons\, Belgium
CATEGORIES:Antigone vs Créon,Tous les spectacles
ATTACH;FMTTYPE=image/jpeg:https://letheatredelachute.be/wp-content/uploads/2024/09/Antigone-vs-Creon.jpeg
END:VEVENT
BEGIN:VEVENT
DTSTART;TZID=Europe/Brussels:20250817T203000
DTEND;TZID=Europe/Brussels:20250817T220000
DTSTAMP:20260420T075527
CREATED:20230612T101954Z
LAST-MODIFIED:20250711T160633Z
UID:2235-1755462600-1755468000@letheatredelachute.be
SUMMARY:Antigone vs Créon
DESCRIPTION:Dans le cadre des \nRencontres Théâtre Jeune Public 2025\nCe deuxième épisode est une création originale de Benoît Verhaert inspirée des Antigones à travers le temps. \nCREATION 2024 \nInfo: letheatredelachute@gmail.com
URL:https://letheatredelachute.be/spectacle/antigone-vs-creon-28/
LOCATION:Centre culturel de Huy\, Place Verte\, Huy\, 4500\, Belgique
CATEGORIES:Antigone vs Créon,Tous les spectacles
ATTACH;FMTTYPE=image/jpeg:https://letheatredelachute.be/wp-content/uploads/2024/09/Antigone-vs-Creon.jpeg
END:VEVENT
BEGIN:VEVENT
DTSTART;TZID=Europe/Brussels:20250818T100000
DTEND;TZID=Europe/Brussels:20250818T113000
DTSTAMP:20260420T075527
CREATED:20230612T101954Z
LAST-MODIFIED:20250711T160728Z
UID:2237-1755511200-1755516600@letheatredelachute.be
SUMMARY:Antigone vs Créon
DESCRIPTION:Dans le cadre des \nRencontres Théâtre Jeune Public 2025\nCe deuxième épisode est une création originale de Benoît Verhaert inspirée des Antigones à travers le temps. \nCREATION 2024 \nInfo: letheatredelachute@gmail.com
URL:https://letheatredelachute.be/spectacle/antigone-vs-creon-29/
LOCATION:Centre culturel de Huy\, Place Verte\, Huy\, 4500\, Belgique
CATEGORIES:Antigone vs Créon,Tous les spectacles
ATTACH;FMTTYPE=image/jpeg:https://letheatredelachute.be/wp-content/uploads/2024/09/Antigone-vs-Creon.jpeg
END:VEVENT
END:VCALENDAR